BEGIN:VCALENDAR
VERSION:2.0
PRODID:-//TFFHastings - ECPv6.15.18//NONSGML v1.0//EN
CALSCALE:GREGORIAN
METHOD:PUBLISH
X-ORIGINAL-URL:https://tffhastings.co.uk
X-WR-CALDESC:Events for TFFHastings
REFRESH-INTERVAL;VALUE=DURATION:PT1H
X-Robots-Tag:noindex
X-PUBLISHED-TTL:PT1H
BEGIN:VTIMEZONE
TZID:Europe/London
BEGIN:DAYLIGHT
TZOFFSETFROM:+0000
TZOFFSETTO:+0100
TZNAME:BST
DTSTART:20250330T010000
END:DAYLIGHT
BEGIN:STANDARD
TZOFFSETFROM:+0100
TZOFFSETTO:+0000
TZNAME:GMT
DTSTART:20251026T010000
END:STANDARD
BEGIN:DAYLIGHT
TZOFFSETFROM:+0000
TZOFFSETTO:+0100
TZNAME:BST
DTSTART:20260329T010000
END:DAYLIGHT
BEGIN:STANDARD
TZOFFSETFROM:+0100
TZOFFSETTO:+0000
TZNAME:GMT
DTSTART:20261025T010000
END:STANDARD
BEGIN:DAYLIGHT
TZOFFSETFROM:+0000
TZOFFSETTO:+0100
TZNAME:BST
DTSTART:20270328T010000
END:DAYLIGHT
BEGIN:STANDARD
TZOFFSETFROM:+0100
TZOFFSETTO:+0000
TZNAME:GMT
DTSTART:20271031T010000
END:STANDARD
END:VTIMEZONE
BEGIN:VEVENT
DTSTART;TZID=Europe/London:20260110T213000
DTEND;TZID=Europe/London:20260110T230000
DTSTAMP:20260425T145656
CREATED:20260102T152749Z
LAST-MODIFIED:20260102T152749Z
UID:10001963-1768080600-1768086000@tffhastings.co.uk
SUMMARY:Scarlett Harlett
DESCRIPTION:
URL:https://tffhastings.co.uk/event/scarlett-harlett-3/
LOCATION:The Forbidden Fruit\, 22 Grand Parade\, St. Leonards-on-Sea\, East Sussex\, TN37 6DN\, United Kingdom
CATEGORIES:Cabaret,Core Club
ORGANIZER;CN="The Forbidden Fruit":MAILTO:contact@tffhastings.co.uk
END:VEVENT
BEGIN:VEVENT
DTSTART;TZID=Europe/London:20260117T213000
DTEND;TZID=Europe/London:20260117T230000
DTSTAMP:20260425T145656
CREATED:20260102T152844Z
LAST-MODIFIED:20260102T152844Z
UID:10001964-1768685400-1768690800@tffhastings.co.uk
SUMMARY:Son Ofa Tutu
DESCRIPTION:
URL:https://tffhastings.co.uk/event/son-ofa-tutu-4/
LOCATION:The Forbidden Fruit\, 22 Grand Parade\, St. Leonards-on-Sea\, East Sussex\, TN37 6DN\, United Kingdom
CATEGORIES:Cabaret,Core Club
ORGANIZER;CN="The Forbidden Fruit":MAILTO:contact@tffhastings.co.uk
END:VEVENT
BEGIN:VEVENT
DTSTART;TZID=Europe/London:20260124T213000
DTEND;TZID=Europe/London:20260124T230000
DTSTAMP:20260425T145656
CREATED:20260102T152933Z
LAST-MODIFIED:20260102T152933Z
UID:10001965-1769290200-1769295600@tffhastings.co.uk
SUMMARY:Mama Tasty
DESCRIPTION:
URL:https://tffhastings.co.uk/event/mama-tasty/
LOCATION:The Forbidden Fruit\, 22 Grand Parade\, St. Leonards-on-Sea\, East Sussex\, TN37 6DN\, United Kingdom
CATEGORIES:Cabaret,Core Club
ORGANIZER;CN="The Forbidden Fruit":MAILTO:contact@tffhastings.co.uk
END:VEVENT
BEGIN:VEVENT
DTSTART;TZID=Europe/London:20260130T213000
DTEND;TZID=Europe/London:20260130T230000
DTSTAMP:20260425T145657
CREATED:20260102T153040Z
LAST-MODIFIED:20260121T111008Z
UID:10001966-1769808600-1769814000@tffhastings.co.uk
SUMMARY:Martha D'Arthur
DESCRIPTION:
URL:https://tffhastings.co.uk/event/martha-darthur-4/
LOCATION:The Forbidden Fruit\, 22 Grand Parade\, St. Leonards-on-Sea\, East Sussex\, TN37 6DN\, United Kingdom
CATEGORIES:Cabaret,Karaoke
ORGANIZER;CN="The Forbidden Fruit":MAILTO:contact@tffhastings.co.uk
END:VEVENT
BEGIN:VEVENT
DTSTART;TZID=Europe/London:20260131T213000
DTEND;TZID=Europe/London:20260131T230000
DTSTAMP:20260425T145657
CREATED:20260102T153137Z
LAST-MODIFIED:20260102T153137Z
UID:10001967-1769895000-1769900400@tffhastings.co.uk
SUMMARY:Snow White Trash
DESCRIPTION:
URL:https://tffhastings.co.uk/event/snow-white-trash-2/
LOCATION:The Forbidden Fruit\, 22 Grand Parade\, St. Leonards-on-Sea\, East Sussex\, TN37 6DN\, United Kingdom
CATEGORIES:Cabaret,Core Club
ORGANIZER;CN="The Forbidden Fruit":MAILTO:contact@tffhastings.co.uk
END:VEVENT
END:VCALENDAR