BEGIN:VCALENDAR
VERSION:2.0
PRODID:-//TFFHastings - ECPv6.15.18//NONSGML v1.0//EN
CALSCALE:GREGORIAN
METHOD:PUBLISH
X-ORIGINAL-URL:https://tffhastings.co.uk
X-WR-CALDESC:Events for TFFHastings
REFRESH-INTERVAL;VALUE=DURATION:PT1H
X-Robots-Tag:noindex
X-PUBLISHED-TTL:PT1H
BEGIN:VTIMEZONE
TZID:Europe/London
BEGIN:DAYLIGHT
TZOFFSETFROM:+0000
TZOFFSETTO:+0100
TZNAME:BST
DTSTART:20250330T010000
END:DAYLIGHT
BEGIN:STANDARD
TZOFFSETFROM:+0100
TZOFFSETTO:+0000
TZNAME:GMT
DTSTART:20251026T010000
END:STANDARD
BEGIN:DAYLIGHT
TZOFFSETFROM:+0000
TZOFFSETTO:+0100
TZNAME:BST
DTSTART:20260329T010000
END:DAYLIGHT
BEGIN:STANDARD
TZOFFSETFROM:+0100
TZOFFSETTO:+0000
TZNAME:GMT
DTSTART:20261025T010000
END:STANDARD
BEGIN:DAYLIGHT
TZOFFSETFROM:+0000
TZOFFSETTO:+0100
TZNAME:BST
DTSTART:20270328T010000
END:DAYLIGHT
BEGIN:STANDARD
TZOFFSETFROM:+0100
TZOFFSETTO:+0000
TZNAME:GMT
DTSTART:20271031T010000
END:STANDARD
END:VTIMEZONE
BEGIN:VEVENT
DTSTART;TZID=Europe/London:20260214T213000
DTEND;TZID=Europe/London:20260214T223000
DTSTAMP:20260425T232058
CREATED:20260112T160351Z
LAST-MODIFIED:20260112T160351Z
UID:10002022-1771104600-1771108200@tffhastings.co.uk
SUMMARY:Drag With No Name
DESCRIPTION:
URL:https://tffhastings.co.uk/event/drag-with-no-name/
LOCATION:The Forbidden Fruit\, 22 Grand Parade\, St. Leonards-on-Sea\, East Sussex\, TN37 6DN\, United Kingdom
CATEGORIES:Cabaret,Core Club,Valentines
ORGANIZER;CN="The Forbidden Fruit":MAILTO:contact@tffhastings.co.uk
END:VEVENT
BEGIN:VEVENT
DTSTART;TZID=Europe/London:20260221T213000
DTEND;TZID=Europe/London:20260221T223000
DTSTAMP:20260425T232058
CREATED:20260112T161222Z
LAST-MODIFIED:20260112T161222Z
UID:10002023-1771709400-1771713000@tffhastings.co.uk
SUMMARY:Marsha Mallow
DESCRIPTION:
URL:https://tffhastings.co.uk/event/marsha-mallow-2/
LOCATION:The Forbidden Fruit\, 22 Grand Parade\, St. Leonards-on-Sea\, East Sussex\, TN37 6DN\, United Kingdom
CATEGORIES:Cabaret,Core Club
ORGANIZER;CN="The Forbidden Fruit":MAILTO:contact@tffhastings.co.uk
END:VEVENT
BEGIN:VEVENT
DTSTART;TZID=Europe/London:20260227T213000
DTEND;TZID=Europe/London:20260227T223000
DTSTAMP:20260425T232058
CREATED:20260112T162123Z
LAST-MODIFIED:20260121T111401Z
UID:10002024-1772227800-1772231400@tffhastings.co.uk
SUMMARY:Doctor Woof
DESCRIPTION:
URL:https://tffhastings.co.uk/event/doctor-woof-2/
LOCATION:The Forbidden Fruit\, 22 Grand Parade\, St. Leonards-on-Sea\, East Sussex\, TN37 6DN\, United Kingdom
CATEGORIES:Cabaret,Karaoke
ORGANIZER;CN="The Forbidden Fruit":MAILTO:contact@tffhastings.co.uk
END:VEVENT
BEGIN:VEVENT
DTSTART;TZID=Europe/London:20260228T130000
DTEND;TZID=Europe/London:20260228T160000
DTSTAMP:20260425T232058
CREATED:20260112T162458Z
LAST-MODIFIED:20260112T162458Z
UID:10002025-1772283600-1772294400@tffhastings.co.uk
SUMMARY:Batty Bingo! Disney Special
DESCRIPTION:
URL:https://tffhastings.co.uk/event/batty-bingo-disney-special/
LOCATION:The Forbidden Fruit\, 22 Grand Parade\, St. Leonards-on-Sea\, East Sussex\, TN37 6DN\, United Kingdom
CATEGORIES:Batty Bingo,Cabaret
ORGANIZER;CN="The Forbidden Fruit":MAILTO:contact@tffhastings.co.uk
END:VEVENT
BEGIN:VEVENT
DTSTART;TZID=Europe/London:20260228T213000
DTEND;TZID=Europe/London:20260228T223000
DTSTAMP:20260425T232058
CREATED:20260112T162637Z
LAST-MODIFIED:20260112T162637Z
UID:10002026-1772314200-1772317800@tffhastings.co.uk
SUMMARY:Billie Gold
DESCRIPTION:
URL:https://tffhastings.co.uk/event/billie-gold/
LOCATION:The Forbidden Fruit\, 22 Grand Parade\, St. Leonards-on-Sea\, East Sussex\, TN37 6DN\, United Kingdom
CATEGORIES:Cabaret,Core Club
ORGANIZER;CN="The Forbidden Fruit":MAILTO:contact@tffhastings.co.uk
END:VEVENT
BEGIN:VEVENT
DTSTART;TZID=Europe/London:20260307T213000
DTEND;TZID=Europe/London:20260307T223000
DTSTAMP:20260425T232058
CREATED:20260206T163849Z
LAST-MODIFIED:20260206T163849Z
UID:10002029-1772919000-1772922600@tffhastings.co.uk
SUMMARY:Vicki Vivacious
DESCRIPTION:
URL:https://tffhastings.co.uk/event/vicki-vivacious/
LOCATION:The Forbidden Fruit\, 22 Grand Parade\, St. Leonards-on-Sea\, East Sussex\, TN37 6DN\, United Kingdom
CATEGORIES:Cabaret,Core Club
ORGANIZER;CN="The Forbidden Fruit":MAILTO:contact@tffhastings.co.uk
END:VEVENT
BEGIN:VEVENT
DTSTART;TZID=Europe/London:20260313T213000
DTEND;TZID=Europe/London:20260313T223000
DTSTAMP:20260425T232058
CREATED:20260206T164921Z
LAST-MODIFIED:20260206T164921Z
UID:10002030-1773437400-1773441000@tffhastings.co.uk
SUMMARY:Sandra
DESCRIPTION:
URL:https://tffhastings.co.uk/event/sandra/
LOCATION:The Forbidden Fruit\, 22 Grand Parade\, St. Leonards-on-Sea\, East Sussex\, TN37 6DN\, United Kingdom
CATEGORIES:Cabaret,Karaoke
ORGANIZER;CN="The Forbidden Fruit":MAILTO:contact@tffhastings.co.uk
END:VEVENT
BEGIN:VEVENT
DTSTART;TZID=Europe/London:20260314T130000
DTEND;TZID=Europe/London:20260314T160000
DTSTAMP:20260425T232058
CREATED:20260112T163317Z
LAST-MODIFIED:20260112T163317Z
UID:10002027-1773493200-1773504000@tffhastings.co.uk
SUMMARY:Batty Bingo! Musicals Special
DESCRIPTION:
URL:https://tffhastings.co.uk/event/batty-bingo-musicals-special/
LOCATION:The Forbidden Fruit\, 22 Grand Parade\, St. Leonards-on-Sea\, East Sussex\, TN37 6DN\, United Kingdom
CATEGORIES:Batty Bingo,Cabaret
ORGANIZER;CN="The Forbidden Fruit":MAILTO:contact@tffhastings.co.uk
END:VEVENT
BEGIN:VEVENT
DTSTART;TZID=Europe/London:20260314T213000
DTEND;TZID=Europe/London:20260314T223000
DTSTAMP:20260425T232058
CREATED:20260206T173433Z
LAST-MODIFIED:20260206T173433Z
UID:10002031-1773523800-1773527400@tffhastings.co.uk
SUMMARY:Darcey Nox
DESCRIPTION:
URL:https://tffhastings.co.uk/event/darcey-nox-3/
LOCATION:The Forbidden Fruit\, 22 Grand Parade\, St. Leonards-on-Sea\, East Sussex\, TN37 6DN\, United Kingdom
CATEGORIES:Cabaret,Core Club
ORGANIZER;CN="The Forbidden Fruit":MAILTO:contact@tffhastings.co.uk
END:VEVENT
BEGIN:VEVENT
DTSTART;TZID=Europe/London:20260321T213000
DTEND;TZID=Europe/London:20260321T223000
DTSTAMP:20260425T232058
CREATED:20260206T173738Z
LAST-MODIFIED:20260223T174811Z
UID:10002032-1774128600-1774132200@tffhastings.co.uk
SUMMARY:Stephanie Von Clitz
DESCRIPTION:
URL:https://tffhastings.co.uk/event/stephanie-von-clitz-2/
LOCATION:The Forbidden Fruit\, 22 Grand Parade\, St. Leonards-on-Sea\, East Sussex\, TN37 6DN\, United Kingdom
CATEGORIES:Cabaret,Core Club
ORGANIZER;CN="The Forbidden Fruit":MAILTO:contact@tffhastings.co.uk
END:VEVENT
BEGIN:VEVENT
DTSTART;TZID=Europe/London:20260328T130000
DTEND;TZID=Europe/London:20260328T160000
DTSTAMP:20260425T232058
CREATED:20260112T163636Z
LAST-MODIFIED:20260112T163636Z
UID:10002028-1774702800-1774713600@tffhastings.co.uk
SUMMARY:Batty Bingo!
DESCRIPTION:
URL:https://tffhastings.co.uk/event/batty-bingo-2/
LOCATION:The Forbidden Fruit\, 22 Grand Parade\, St. Leonards-on-Sea\, East Sussex\, TN37 6DN\, United Kingdom
CATEGORIES:Batty Bingo,Cabaret
ORGANIZER;CN="The Forbidden Fruit":MAILTO:contact@tffhastings.co.uk
END:VEVENT
BEGIN:VEVENT
DTSTART;TZID=Europe/London:20260328T213000
DTEND;TZID=Europe/London:20260328T223000
DTSTAMP:20260425T232058
CREATED:20260206T174338Z
LAST-MODIFIED:20260206T174338Z
UID:10002033-1774733400-1774737000@tffhastings.co.uk
SUMMARY:Terry Tour
DESCRIPTION:
URL:https://tffhastings.co.uk/event/terry-tour/
LOCATION:The Forbidden Fruit\, 22 Grand Parade\, St. Leonards-on-Sea\, East Sussex\, TN37 6DN\, United Kingdom
CATEGORIES:Cabaret,Core Club
ORGANIZER;CN="The Forbidden Fruit":MAILTO:contact@tffhastings.co.uk
END:VEVENT
BEGIN:VEVENT
DTSTART;TZID=Europe/London:20260403T213000
DTEND;TZID=Europe/London:20260403T223000
DTSTAMP:20260425T232058
CREATED:20260223T175456Z
LAST-MODIFIED:20260223T175456Z
UID:10002092-1775251800-1775255400@tffhastings.co.uk
SUMMARY:Snow White Trash
DESCRIPTION:
URL:https://tffhastings.co.uk/event/snow-white-trash-3/
LOCATION:The Forbidden Fruit\, 22 Grand Parade\, St. Leonards-on-Sea\, East Sussex\, TN37 6DN\, United Kingdom
CATEGORIES:Cabaret,Karaoke
ORGANIZER;CN="The Forbidden Fruit":MAILTO:contact@tffhastings.co.uk
END:VEVENT
BEGIN:VEVENT
DTSTART;TZID=Europe/London:20260404T213000
DTEND;TZID=Europe/London:20260404T223000
DTSTAMP:20260425T232058
CREATED:20260223T180229Z
LAST-MODIFIED:20260223T180229Z
UID:10002093-1775338200-1775341800@tffhastings.co.uk
SUMMARY:Aura Jay
DESCRIPTION:
URL:https://tffhastings.co.uk/event/aura-jay/
LOCATION:The Forbidden Fruit\, 22 Grand Parade\, St. Leonards-on-Sea\, East Sussex\, TN37 6DN\, United Kingdom
CATEGORIES:Cabaret,Core Club
ORGANIZER;CN="The Forbidden Fruit":MAILTO:contact@tffhastings.co.uk
END:VEVENT
BEGIN:VEVENT
DTSTART;TZID=Europe/London:20260411T213000
DTEND;TZID=Europe/London:20260411T223000
DTSTAMP:20260425T232058
CREATED:20260223T180418Z
LAST-MODIFIED:20260223T180418Z
UID:10002094-1775943000-1775946600@tffhastings.co.uk
SUMMARY:Son Ofa Tutu
DESCRIPTION:
URL:https://tffhastings.co.uk/event/son-ofa-tutu-5/
LOCATION:The Forbidden Fruit\, 22 Grand Parade\, St. Leonards-on-Sea\, East Sussex\, TN37 6DN\, United Kingdom
CATEGORIES:Cabaret,Core Club
ORGANIZER;CN="The Forbidden Fruit":MAILTO:contact@tffhastings.co.uk
END:VEVENT
BEGIN:VEVENT
DTSTART;TZID=Europe/London:20260418T213000
DTEND;TZID=Europe/London:20260418T223000
DTSTAMP:20260425T232058
CREATED:20260223T180654Z
LAST-MODIFIED:20260312T115005Z
UID:10002095-1776547800-1776551400@tffhastings.co.uk
SUMMARY:Pixie Polite
DESCRIPTION:
URL:https://tffhastings.co.uk/event/pixie-polite-2/
LOCATION:The Forbidden Fruit\, 22 Grand Parade\, St. Leonards-on-Sea\, East Sussex\, TN37 6DN\, United Kingdom
CATEGORIES:Cabaret,Core Club
ORGANIZER;CN="The Forbidden Fruit":MAILTO:contact@tffhastings.co.uk
END:VEVENT
BEGIN:VEVENT
DTSTART;TZID=Europe/London:20260425T213000
DTEND;TZID=Europe/London:20260425T223000
DTSTAMP:20260425T232058
CREATED:20260223T180848Z
LAST-MODIFIED:20260223T180848Z
UID:10002096-1777152600-1777156200@tffhastings.co.uk
SUMMARY:Scarlett Harlett
DESCRIPTION:
URL:https://tffhastings.co.uk/event/scarlett-harlett-4/
LOCATION:The Forbidden Fruit\, 22 Grand Parade\, St. Leonards-on-Sea\, East Sussex\, TN37 6DN\, United Kingdom
CATEGORIES:Cabaret,Core Club
ORGANIZER;CN="The Forbidden Fruit":MAILTO:contact@tffhastings.co.uk
END:VEVENT
BEGIN:VEVENT
DTSTART;TZID=Europe/London:20260502T213000
DTEND;TZID=Europe/London:20260502T223000
DTSTAMP:20260425T232058
CREATED:20260223T181116Z
LAST-MODIFIED:20260223T181116Z
UID:10002097-1777757400-1777761000@tffhastings.co.uk
SUMMARY:DWNN
DESCRIPTION:
URL:https://tffhastings.co.uk/event/dwnn-2/
LOCATION:The Forbidden Fruit\, 22 Grand Parade\, St. Leonards-on-Sea\, East Sussex\, TN37 6DN\, United Kingdom
CATEGORIES:Cabaret,Core Club
ORGANIZER;CN="The Forbidden Fruit":MAILTO:contact@tffhastings.co.uk
END:VEVENT
BEGIN:VEVENT
DTSTART;TZID=Europe/London:20260509T213000
DTEND;TZID=Europe/London:20260509T223000
DTSTAMP:20260425T232058
CREATED:20260312T130742Z
LAST-MODIFIED:20260312T131709Z
UID:10002099-1778362200-1778365800@tffhastings.co.uk
SUMMARY:Jane Jenkinson
DESCRIPTION:
URL:https://tffhastings.co.uk/event/jane-jenkinson/
LOCATION:The Forbidden Fruit\, 22 Grand Parade\, St. Leonards-on-Sea\, East Sussex\, TN37 6DN\, United Kingdom
CATEGORIES:Cabaret,Core Club
ORGANIZER;CN="The Forbidden Fruit":MAILTO:contact@tffhastings.co.uk
END:VEVENT
BEGIN:VEVENT
DTSTART;TZID=Europe/London:20260523T140000
DTEND;TZID=Europe/London:20260523T153000
DTSTAMP:20260425T232058
CREATED:20260318T143207Z
LAST-MODIFIED:20260318T143207Z
UID:10002116-1779544800-1779550200@tffhastings.co.uk
SUMMARY:Bottomless Crunch!
DESCRIPTION:
URL:https://tffhastings.co.uk/event/bottomless-crunch/
LOCATION:The Forbidden Fruit\, 22 Grand Parade\, St. Leonards-on-Sea\, East Sussex\, TN37 6DN\, United Kingdom
CATEGORIES:Bottomless Brunch,Cabaret
ORGANIZER;CN="The Forbidden Fruit":MAILTO:contact@tffhastings.co.uk
END:VEVENT
BEGIN:VEVENT
DTSTART;TZID=Europe/London:20260523T213000
DTEND;TZID=Europe/London:20260523T223000
DTSTAMP:20260425T232058
CREATED:20260312T132054Z
LAST-MODIFIED:20260312T132054Z
UID:10002115-1779571800-1779575400@tffhastings.co.uk
SUMMARY:Mama Tasty
DESCRIPTION:
URL:https://tffhastings.co.uk/event/mama-tasty-2/
LOCATION:The Forbidden Fruit\, 22 Grand Parade\, St. Leonards-on-Sea\, East Sussex\, TN37 6DN\, United Kingdom
CATEGORIES:Cabaret,Core Club
ORGANIZER;CN="The Forbidden Fruit":MAILTO:contact@tffhastings.co.uk
END:VEVENT
BEGIN:VEVENT
DTSTART;TZID=Europe/London:20260529T213000
DTEND;TZID=Europe/London:20260529T223000
DTSTAMP:20260425T232058
CREATED:20260312T131435Z
LAST-MODIFIED:20260312T131435Z
UID:10002103-1780090200-1780093800@tffhastings.co.uk
SUMMARY:Martha D'Arthur
DESCRIPTION:
URL:https://tffhastings.co.uk/event/martha-darthur-3/
LOCATION:The Forbidden Fruit\, 22 Grand Parade\, St. Leonards-on-Sea\, East Sussex\, TN37 6DN\, United Kingdom
CATEGORIES:Cabaret,Karaoke
ORGANIZER;CN="The Forbidden Fruit":MAILTO:contact@tffhastings.co.uk
END:VEVENT
BEGIN:VEVENT
DTSTART;TZID=Europe/London:20260530T010000
DTEND;TZID=Europe/London:20260530T160000
DTSTAMP:20260425T232058
CREATED:20260318T143427Z
LAST-MODIFIED:20260318T143427Z
UID:10002117-1780102800-1780156800@tffhastings.co.uk
SUMMARY:Batty Bingo! - 90s Special
DESCRIPTION:
URL:https://tffhastings.co.uk/event/batty-bingo-90s-special-2/
LOCATION:The Forbidden Fruit\, 22 Grand Parade\, St. Leonards-on-Sea\, East Sussex\, TN37 6DN\, United Kingdom
CATEGORIES:Batty Bingo,Cabaret
ORGANIZER;CN="The Forbidden Fruit":MAILTO:contact@tffhastings.co.uk
END:VEVENT
BEGIN:VEVENT
DTSTART;TZID=Europe/London:20260530T213000
DTEND;TZID=Europe/London:20260530T223000
DTSTAMP:20260425T232058
CREATED:20260312T131535Z
LAST-MODIFIED:20260312T131535Z
UID:10002104-1780176600-1780180200@tffhastings.co.uk
SUMMARY:Doctor Woof
DESCRIPTION:
URL:https://tffhastings.co.uk/event/doctor-woof-3/
LOCATION:The Forbidden Fruit\, 22 Grand Parade\, St. Leonards-on-Sea\, East Sussex\, TN37 6DN\, United Kingdom
CATEGORIES:Cabaret,Core Club
ORGANIZER;CN="The Forbidden Fruit":MAILTO:contact@tffhastings.co.uk
END:VEVENT
END:VCALENDAR