BEGIN:VCALENDAR
VERSION:2.0
PRODID:-//TFFHastings - ECPv6.15.18//NONSGML v1.0//EN
CALSCALE:GREGORIAN
METHOD:PUBLISH
X-ORIGINAL-URL:https://tffhastings.co.uk
X-WR-CALDESC:Events for TFFHastings
REFRESH-INTERVAL;VALUE=DURATION:PT1H
X-Robots-Tag:noindex
X-PUBLISHED-TTL:PT1H
BEGIN:VTIMEZONE
TZID:Europe/London
BEGIN:DAYLIGHT
TZOFFSETFROM:+0000
TZOFFSETTO:+0100
TZNAME:BST
DTSTART:20250330T010000
END:DAYLIGHT
BEGIN:STANDARD
TZOFFSETFROM:+0100
TZOFFSETTO:+0000
TZNAME:GMT
DTSTART:20251026T010000
END:STANDARD
BEGIN:DAYLIGHT
TZOFFSETFROM:+0000
TZOFFSETTO:+0100
TZNAME:BST
DTSTART:20260329T010000
END:DAYLIGHT
BEGIN:STANDARD
TZOFFSETFROM:+0100
TZOFFSETTO:+0000
TZNAME:GMT
DTSTART:20261025T010000
END:STANDARD
BEGIN:DAYLIGHT
TZOFFSETFROM:+0000
TZOFFSETTO:+0100
TZNAME:BST
DTSTART:20270328T010000
END:DAYLIGHT
BEGIN:STANDARD
TZOFFSETFROM:+0100
TZOFFSETTO:+0000
TZNAME:GMT
DTSTART:20271031T010000
END:STANDARD
END:VTIMEZONE
BEGIN:VEVENT
DTSTART;TZID=Europe/London:20260502T213000
DTEND;TZID=Europe/London:20260502T223000
DTSTAMP:20260423T225710
CREATED:20260223T181116Z
LAST-MODIFIED:20260223T181116Z
UID:10002097-1777757400-1777761000@tffhastings.co.uk
SUMMARY:DWNN
DESCRIPTION:
URL:https://tffhastings.co.uk/event/dwnn-2/
LOCATION:The Forbidden Fruit\, 22 Grand Parade\, St. Leonards-on-Sea\, East Sussex\, TN37 6DN\, United Kingdom
CATEGORIES:Cabaret,Core Club
ORGANIZER;CN="The Forbidden Fruit":MAILTO:contact@tffhastings.co.uk
END:VEVENT
BEGIN:VEVENT
DTSTART;TZID=Europe/London:20260509T213000
DTEND;TZID=Europe/London:20260509T223000
DTSTAMP:20260423T225710
CREATED:20260312T130742Z
LAST-MODIFIED:20260312T131709Z
UID:10002099-1778362200-1778365800@tffhastings.co.uk
SUMMARY:Jane Jenkinson
DESCRIPTION:
URL:https://tffhastings.co.uk/event/jane-jenkinson/
LOCATION:The Forbidden Fruit\, 22 Grand Parade\, St. Leonards-on-Sea\, East Sussex\, TN37 6DN\, United Kingdom
CATEGORIES:Cabaret,Core Club
ORGANIZER;CN="The Forbidden Fruit":MAILTO:contact@tffhastings.co.uk
END:VEVENT
BEGIN:VEVENT
DTSTART;TZID=Europe/London:20260523T140000
DTEND;TZID=Europe/London:20260523T153000
DTSTAMP:20260423T225710
CREATED:20260318T143207Z
LAST-MODIFIED:20260318T143207Z
UID:10002116-1779544800-1779550200@tffhastings.co.uk
SUMMARY:Bottomless Crunch!
DESCRIPTION:
URL:https://tffhastings.co.uk/event/bottomless-crunch/
LOCATION:The Forbidden Fruit\, 22 Grand Parade\, St. Leonards-on-Sea\, East Sussex\, TN37 6DN\, United Kingdom
CATEGORIES:Bottomless Brunch,Cabaret
ORGANIZER;CN="The Forbidden Fruit":MAILTO:contact@tffhastings.co.uk
END:VEVENT
BEGIN:VEVENT
DTSTART;TZID=Europe/London:20260523T213000
DTEND;TZID=Europe/London:20260523T223000
DTSTAMP:20260423T225710
CREATED:20260312T132054Z
LAST-MODIFIED:20260312T132054Z
UID:10002115-1779571800-1779575400@tffhastings.co.uk
SUMMARY:Mama Tasty
DESCRIPTION:
URL:https://tffhastings.co.uk/event/mama-tasty-2/
LOCATION:The Forbidden Fruit\, 22 Grand Parade\, St. Leonards-on-Sea\, East Sussex\, TN37 6DN\, United Kingdom
CATEGORIES:Cabaret,Core Club
ORGANIZER;CN="The Forbidden Fruit":MAILTO:contact@tffhastings.co.uk
END:VEVENT
BEGIN:VEVENT
DTSTART;TZID=Europe/London:20260529T213000
DTEND;TZID=Europe/London:20260529T223000
DTSTAMP:20260423T225710
CREATED:20260312T131435Z
LAST-MODIFIED:20260312T131435Z
UID:10002103-1780090200-1780093800@tffhastings.co.uk
SUMMARY:Martha D'Arthur
DESCRIPTION:
URL:https://tffhastings.co.uk/event/martha-darthur-3/
LOCATION:The Forbidden Fruit\, 22 Grand Parade\, St. Leonards-on-Sea\, East Sussex\, TN37 6DN\, United Kingdom
CATEGORIES:Cabaret,Karaoke
ORGANIZER;CN="The Forbidden Fruit":MAILTO:contact@tffhastings.co.uk
END:VEVENT
BEGIN:VEVENT
DTSTART;TZID=Europe/London:20260530T010000
DTEND;TZID=Europe/London:20260530T160000
DTSTAMP:20260423T225710
CREATED:20260318T143427Z
LAST-MODIFIED:20260318T143427Z
UID:10002117-1780102800-1780156800@tffhastings.co.uk
SUMMARY:Batty Bingo! - 90s Special
DESCRIPTION:
URL:https://tffhastings.co.uk/event/batty-bingo-90s-special-2/
LOCATION:The Forbidden Fruit\, 22 Grand Parade\, St. Leonards-on-Sea\, East Sussex\, TN37 6DN\, United Kingdom
CATEGORIES:Batty Bingo,Cabaret
ORGANIZER;CN="The Forbidden Fruit":MAILTO:contact@tffhastings.co.uk
END:VEVENT
BEGIN:VEVENT
DTSTART;TZID=Europe/London:20260530T213000
DTEND;TZID=Europe/London:20260530T223000
DTSTAMP:20260423T225710
CREATED:20260312T131535Z
LAST-MODIFIED:20260312T131535Z
UID:10002104-1780176600-1780180200@tffhastings.co.uk
SUMMARY:Doctor Woof
DESCRIPTION:
URL:https://tffhastings.co.uk/event/doctor-woof-3/
LOCATION:The Forbidden Fruit\, 22 Grand Parade\, St. Leonards-on-Sea\, East Sussex\, TN37 6DN\, United Kingdom
CATEGORIES:Cabaret,Core Club
ORGANIZER;CN="The Forbidden Fruit":MAILTO:contact@tffhastings.co.uk
END:VEVENT
END:VCALENDAR