BEGIN:VCALENDAR
VERSION:2.0
PRODID:-//TFFHastings - ECPv6.15.18//NONSGML v1.0//EN
CALSCALE:GREGORIAN
METHOD:PUBLISH
X-WR-CALNAME:TFFHastings
X-ORIGINAL-URL:https://tffhastings.co.uk
X-WR-CALDESC:Events for TFFHastings
REFRESH-INTERVAL;VALUE=DURATION:PT1H
X-Robots-Tag:noindex
X-PUBLISHED-TTL:PT1H
BEGIN:VTIMEZONE
TZID:Europe/London
BEGIN:DAYLIGHT
TZOFFSETFROM:+0000
TZOFFSETTO:+0100
TZNAME:BST
DTSTART:20270328T010000
END:DAYLIGHT
BEGIN:STANDARD
TZOFFSETFROM:+0100
TZOFFSETTO:+0000
TZNAME:GMT
DTSTART:20271031T010000
END:STANDARD
BEGIN:DAYLIGHT
TZOFFSETFROM:+0000
TZOFFSETTO:+0100
TZNAME:BST
DTSTART:20280326T010000
END:DAYLIGHT
BEGIN:STANDARD
TZOFFSETFROM:+0100
TZOFFSETTO:+0000
TZNAME:GMT
DTSTART:20281029T010000
END:STANDARD
BEGIN:DAYLIGHT
TZOFFSETFROM:+0000
TZOFFSETTO:+0100
TZNAME:BST
DTSTART:20290325T010000
END:DAYLIGHT
BEGIN:STANDARD
TZOFFSETFROM:+0100
TZOFFSETTO:+0000
TZNAME:GMT
DTSTART:20291028T010000
END:STANDARD
BEGIN:DAYLIGHT
TZOFFSETFROM:+0000
TZOFFSETTO:+0100
TZNAME:BST
DTSTART:20300331T010000
END:DAYLIGHT
BEGIN:STANDARD
TZOFFSETFROM:+0100
TZOFFSETTO:+0000
TZNAME:GMT
DTSTART:20301027T010000
END:STANDARD
END:VTIMEZONE
BEGIN:VEVENT
DTSTART;TZID=Europe/London:20280616T200000
DTEND;TZID=Europe/London:20280617T010000
DTSTAMP:20260425T131530
CREATED:20260102T151936Z
LAST-MODIFIED:20260418T092451Z
UID:10001830-1844798400-1844816400@tffhastings.co.uk
SUMMARY:Karaoke Night!
DESCRIPTION:
URL:https://tffhastings.co.uk/event/karaoke-night-3/2028-06-16/
LOCATION:The Forbidden Fruit\, 22 Grand Parade\, St. Leonards-on-Sea\, East Sussex\, TN37 6DN\, United Kingdom
CATEGORIES:Karaoke
ORGANIZER;CN="The Forbidden Fruit":MAILTO:contact@tffhastings.co.uk
END:VEVENT
BEGIN:VEVENT
DTSTART;TZID=Europe/London:20280623T200000
DTEND;TZID=Europe/London:20280624T010000
DTSTAMP:20260425T131530
CREATED:20260102T151936Z
LAST-MODIFIED:20260418T092451Z
UID:10001831-1845403200-1845421200@tffhastings.co.uk
SUMMARY:Karaoke Night!
DESCRIPTION:
URL:https://tffhastings.co.uk/event/karaoke-night-3/2028-06-23/
LOCATION:The Forbidden Fruit\, 22 Grand Parade\, St. Leonards-on-Sea\, East Sussex\, TN37 6DN\, United Kingdom
CATEGORIES:Karaoke
ORGANIZER;CN="The Forbidden Fruit":MAILTO:contact@tffhastings.co.uk
END:VEVENT
BEGIN:VEVENT
DTSTART;TZID=Europe/London:20280630T200000
DTEND;TZID=Europe/London:20280701T010000
DTSTAMP:20260425T131530
CREATED:20260102T151936Z
LAST-MODIFIED:20260418T092451Z
UID:10001832-1846008000-1846026000@tffhastings.co.uk
SUMMARY:Karaoke Night!
DESCRIPTION:
URL:https://tffhastings.co.uk/event/karaoke-night-3/2028-06-30/
LOCATION:The Forbidden Fruit\, 22 Grand Parade\, St. Leonards-on-Sea\, East Sussex\, TN37 6DN\, United Kingdom
CATEGORIES:Karaoke
ORGANIZER;CN="The Forbidden Fruit":MAILTO:contact@tffhastings.co.uk
END:VEVENT
BEGIN:VEVENT
DTSTART;TZID=Europe/London:20280707T200000
DTEND;TZID=Europe/London:20280708T010000
DTSTAMP:20260425T131530
CREATED:20260102T151936Z
LAST-MODIFIED:20260418T092451Z
UID:10001833-1846612800-1846630800@tffhastings.co.uk
SUMMARY:Karaoke Night!
DESCRIPTION:
URL:https://tffhastings.co.uk/event/karaoke-night-3/2028-07-07/
LOCATION:The Forbidden Fruit\, 22 Grand Parade\, St. Leonards-on-Sea\, East Sussex\, TN37 6DN\, United Kingdom
CATEGORIES:Karaoke
ORGANIZER;CN="The Forbidden Fruit":MAILTO:contact@tffhastings.co.uk
END:VEVENT
BEGIN:VEVENT
DTSTART;TZID=Europe/London:20280714T200000
DTEND;TZID=Europe/London:20280715T010000
DTSTAMP:20260425T131530
CREATED:20260102T151936Z
LAST-MODIFIED:20260418T092451Z
UID:10001834-1847217600-1847235600@tffhastings.co.uk
SUMMARY:Karaoke Night!
DESCRIPTION:
URL:https://tffhastings.co.uk/event/karaoke-night-3/2028-07-14/
LOCATION:The Forbidden Fruit\, 22 Grand Parade\, St. Leonards-on-Sea\, East Sussex\, TN37 6DN\, United Kingdom
CATEGORIES:Karaoke
ORGANIZER;CN="The Forbidden Fruit":MAILTO:contact@tffhastings.co.uk
END:VEVENT
BEGIN:VEVENT
DTSTART;TZID=Europe/London:20280721T200000
DTEND;TZID=Europe/London:20280722T010000
DTSTAMP:20260425T131530
CREATED:20260102T151936Z
LAST-MODIFIED:20260418T092451Z
UID:10001835-1847822400-1847840400@tffhastings.co.uk
SUMMARY:Karaoke Night!
DESCRIPTION:
URL:https://tffhastings.co.uk/event/karaoke-night-3/2028-07-21/
LOCATION:The Forbidden Fruit\, 22 Grand Parade\, St. Leonards-on-Sea\, East Sussex\, TN37 6DN\, United Kingdom
CATEGORIES:Karaoke
ORGANIZER;CN="The Forbidden Fruit":MAILTO:contact@tffhastings.co.uk
END:VEVENT
BEGIN:VEVENT
DTSTART;TZID=Europe/London:20280728T200000
DTEND;TZID=Europe/London:20280729T010000
DTSTAMP:20260425T131530
CREATED:20260102T151936Z
LAST-MODIFIED:20260418T092451Z
UID:10001836-1848427200-1848445200@tffhastings.co.uk
SUMMARY:Karaoke Night!
DESCRIPTION:
URL:https://tffhastings.co.uk/event/karaoke-night-3/2028-07-28/
LOCATION:The Forbidden Fruit\, 22 Grand Parade\, St. Leonards-on-Sea\, East Sussex\, TN37 6DN\, United Kingdom
CATEGORIES:Karaoke
ORGANIZER;CN="The Forbidden Fruit":MAILTO:contact@tffhastings.co.uk
END:VEVENT
BEGIN:VEVENT
DTSTART;TZID=Europe/London:20280804T200000
DTEND;TZID=Europe/London:20280805T010000
DTSTAMP:20260425T131530
CREATED:20260102T151936Z
LAST-MODIFIED:20260418T092451Z
UID:10001837-1849032000-1849050000@tffhastings.co.uk
SUMMARY:Karaoke Night!
DESCRIPTION:
URL:https://tffhastings.co.uk/event/karaoke-night-3/2028-08-04/
LOCATION:The Forbidden Fruit\, 22 Grand Parade\, St. Leonards-on-Sea\, East Sussex\, TN37 6DN\, United Kingdom
CATEGORIES:Karaoke
ORGANIZER;CN="The Forbidden Fruit":MAILTO:contact@tffhastings.co.uk
END:VEVENT
BEGIN:VEVENT
DTSTART;TZID=Europe/London:20280811T200000
DTEND;TZID=Europe/London:20280812T010000
DTSTAMP:20260425T131530
CREATED:20260102T151936Z
LAST-MODIFIED:20260418T092451Z
UID:10001838-1849636800-1849654800@tffhastings.co.uk
SUMMARY:Karaoke Night!
DESCRIPTION:
URL:https://tffhastings.co.uk/event/karaoke-night-3/2028-08-11/
LOCATION:The Forbidden Fruit\, 22 Grand Parade\, St. Leonards-on-Sea\, East Sussex\, TN37 6DN\, United Kingdom
CATEGORIES:Karaoke
ORGANIZER;CN="The Forbidden Fruit":MAILTO:contact@tffhastings.co.uk
END:VEVENT
BEGIN:VEVENT
DTSTART;TZID=Europe/London:20280818T200000
DTEND;TZID=Europe/London:20280819T010000
DTSTAMP:20260425T131530
CREATED:20260102T151936Z
LAST-MODIFIED:20260418T092451Z
UID:10001839-1850241600-1850259600@tffhastings.co.uk
SUMMARY:Karaoke Night!
DESCRIPTION:
URL:https://tffhastings.co.uk/event/karaoke-night-3/2028-08-18/
LOCATION:The Forbidden Fruit\, 22 Grand Parade\, St. Leonards-on-Sea\, East Sussex\, TN37 6DN\, United Kingdom
CATEGORIES:Karaoke
ORGANIZER;CN="The Forbidden Fruit":MAILTO:contact@tffhastings.co.uk
END:VEVENT
BEGIN:VEVENT
DTSTART;TZID=Europe/London:20280825T200000
DTEND;TZID=Europe/London:20280826T010000
DTSTAMP:20260425T131530
CREATED:20260102T151936Z
LAST-MODIFIED:20260418T092451Z
UID:10001840-1850846400-1850864400@tffhastings.co.uk
SUMMARY:Karaoke Night!
DESCRIPTION:
URL:https://tffhastings.co.uk/event/karaoke-night-3/2028-08-25/
LOCATION:The Forbidden Fruit\, 22 Grand Parade\, St. Leonards-on-Sea\, East Sussex\, TN37 6DN\, United Kingdom
CATEGORIES:Karaoke
ORGANIZER;CN="The Forbidden Fruit":MAILTO:contact@tffhastings.co.uk
END:VEVENT
BEGIN:VEVENT
DTSTART;TZID=Europe/London:20280901T200000
DTEND;TZID=Europe/London:20280902T010000
DTSTAMP:20260425T131530
CREATED:20260102T151936Z
LAST-MODIFIED:20260418T092451Z
UID:10001841-1851451200-1851469200@tffhastings.co.uk
SUMMARY:Karaoke Night!
DESCRIPTION:
URL:https://tffhastings.co.uk/event/karaoke-night-3/2028-09-01/
LOCATION:The Forbidden Fruit\, 22 Grand Parade\, St. Leonards-on-Sea\, East Sussex\, TN37 6DN\, United Kingdom
CATEGORIES:Karaoke
ORGANIZER;CN="The Forbidden Fruit":MAILTO:contact@tffhastings.co.uk
END:VEVENT
BEGIN:VEVENT
DTSTART;TZID=Europe/London:20280908T200000
DTEND;TZID=Europe/London:20280909T010000
DTSTAMP:20260425T131530
CREATED:20260102T151936Z
LAST-MODIFIED:20260418T092451Z
UID:10001842-1852056000-1852074000@tffhastings.co.uk
SUMMARY:Karaoke Night!
DESCRIPTION:
URL:https://tffhastings.co.uk/event/karaoke-night-3/2028-09-08/
LOCATION:The Forbidden Fruit\, 22 Grand Parade\, St. Leonards-on-Sea\, East Sussex\, TN37 6DN\, United Kingdom
CATEGORIES:Karaoke
ORGANIZER;CN="The Forbidden Fruit":MAILTO:contact@tffhastings.co.uk
END:VEVENT
BEGIN:VEVENT
DTSTART;TZID=Europe/London:20280915T200000
DTEND;TZID=Europe/London:20280916T010000
DTSTAMP:20260425T131530
CREATED:20260102T151936Z
LAST-MODIFIED:20260418T092451Z
UID:10001843-1852660800-1852678800@tffhastings.co.uk
SUMMARY:Karaoke Night!
DESCRIPTION:
URL:https://tffhastings.co.uk/event/karaoke-night-3/2028-09-15/
LOCATION:The Forbidden Fruit\, 22 Grand Parade\, St. Leonards-on-Sea\, East Sussex\, TN37 6DN\, United Kingdom
CATEGORIES:Karaoke
ORGANIZER;CN="The Forbidden Fruit":MAILTO:contact@tffhastings.co.uk
END:VEVENT
BEGIN:VEVENT
DTSTART;TZID=Europe/London:20280922T200000
DTEND;TZID=Europe/London:20280923T010000
DTSTAMP:20260425T131530
CREATED:20260102T151936Z
LAST-MODIFIED:20260418T092451Z
UID:10001844-1853265600-1853283600@tffhastings.co.uk
SUMMARY:Karaoke Night!
DESCRIPTION:
URL:https://tffhastings.co.uk/event/karaoke-night-3/2028-09-22/
LOCATION:The Forbidden Fruit\, 22 Grand Parade\, St. Leonards-on-Sea\, East Sussex\, TN37 6DN\, United Kingdom
CATEGORIES:Karaoke
ORGANIZER;CN="The Forbidden Fruit":MAILTO:contact@tffhastings.co.uk
END:VEVENT
BEGIN:VEVENT
DTSTART;TZID=Europe/London:20280929T200000
DTEND;TZID=Europe/London:20280930T010000
DTSTAMP:20260425T131530
CREATED:20260102T151936Z
LAST-MODIFIED:20260418T092451Z
UID:10001845-1853870400-1853888400@tffhastings.co.uk
SUMMARY:Karaoke Night!
DESCRIPTION:
URL:https://tffhastings.co.uk/event/karaoke-night-3/2028-09-29/
LOCATION:The Forbidden Fruit\, 22 Grand Parade\, St. Leonards-on-Sea\, East Sussex\, TN37 6DN\, United Kingdom
CATEGORIES:Karaoke
ORGANIZER;CN="The Forbidden Fruit":MAILTO:contact@tffhastings.co.uk
END:VEVENT
BEGIN:VEVENT
DTSTART;TZID=Europe/London:20281006T200000
DTEND;TZID=Europe/London:20281007T010000
DTSTAMP:20260425T131530
CREATED:20260102T151936Z
LAST-MODIFIED:20260418T092451Z
UID:10001846-1854475200-1854493200@tffhastings.co.uk
SUMMARY:Karaoke Night!
DESCRIPTION:
URL:https://tffhastings.co.uk/event/karaoke-night-3/2028-10-06/
LOCATION:The Forbidden Fruit\, 22 Grand Parade\, St. Leonards-on-Sea\, East Sussex\, TN37 6DN\, United Kingdom
CATEGORIES:Karaoke
ORGANIZER;CN="The Forbidden Fruit":MAILTO:contact@tffhastings.co.uk
END:VEVENT
BEGIN:VEVENT
DTSTART;TZID=Europe/London:20281013T200000
DTEND;TZID=Europe/London:20281014T010000
DTSTAMP:20260425T131530
CREATED:20260102T151936Z
LAST-MODIFIED:20260418T092451Z
UID:10001847-1855080000-1855098000@tffhastings.co.uk
SUMMARY:Karaoke Night!
DESCRIPTION:
URL:https://tffhastings.co.uk/event/karaoke-night-3/2028-10-13/
LOCATION:The Forbidden Fruit\, 22 Grand Parade\, St. Leonards-on-Sea\, East Sussex\, TN37 6DN\, United Kingdom
CATEGORIES:Karaoke
ORGANIZER;CN="The Forbidden Fruit":MAILTO:contact@tffhastings.co.uk
END:VEVENT
BEGIN:VEVENT
DTSTART;TZID=Europe/London:20281020T200000
DTEND;TZID=Europe/London:20281021T010000
DTSTAMP:20260425T131530
CREATED:20260102T151936Z
LAST-MODIFIED:20260418T092451Z
UID:10001848-1855684800-1855702800@tffhastings.co.uk
SUMMARY:Karaoke Night!
DESCRIPTION:
URL:https://tffhastings.co.uk/event/karaoke-night-3/2028-10-20/
LOCATION:The Forbidden Fruit\, 22 Grand Parade\, St. Leonards-on-Sea\, East Sussex\, TN37 6DN\, United Kingdom
CATEGORIES:Karaoke
ORGANIZER;CN="The Forbidden Fruit":MAILTO:contact@tffhastings.co.uk
END:VEVENT
BEGIN:VEVENT
DTSTART;TZID=Europe/London:20281027T200000
DTEND;TZID=Europe/London:20281028T010000
DTSTAMP:20260425T131530
CREATED:20260102T151936Z
LAST-MODIFIED:20260418T092451Z
UID:10001849-1856289600-1856307600@tffhastings.co.uk
SUMMARY:Karaoke Night!
DESCRIPTION:
URL:https://tffhastings.co.uk/event/karaoke-night-3/2028-10-27/
LOCATION:The Forbidden Fruit\, 22 Grand Parade\, St. Leonards-on-Sea\, East Sussex\, TN37 6DN\, United Kingdom
CATEGORIES:Karaoke
ORGANIZER;CN="The Forbidden Fruit":MAILTO:contact@tffhastings.co.uk
END:VEVENT
BEGIN:VEVENT
DTSTART;TZID=Europe/London:20281103T200000
DTEND;TZID=Europe/London:20281104T010000
DTSTAMP:20260425T131530
CREATED:20260102T151936Z
LAST-MODIFIED:20260418T092451Z
UID:10001850-1856894400-1856912400@tffhastings.co.uk
SUMMARY:Karaoke Night!
DESCRIPTION:
URL:https://tffhastings.co.uk/event/karaoke-night-3/2028-11-03/
LOCATION:The Forbidden Fruit\, 22 Grand Parade\, St. Leonards-on-Sea\, East Sussex\, TN37 6DN\, United Kingdom
CATEGORIES:Karaoke
ORGANIZER;CN="The Forbidden Fruit":MAILTO:contact@tffhastings.co.uk
END:VEVENT
BEGIN:VEVENT
DTSTART;TZID=Europe/London:20281110T200000
DTEND;TZID=Europe/London:20281111T010000
DTSTAMP:20260425T131530
CREATED:20260102T151936Z
LAST-MODIFIED:20260418T092451Z
UID:10001851-1857499200-1857517200@tffhastings.co.uk
SUMMARY:Karaoke Night!
DESCRIPTION:
URL:https://tffhastings.co.uk/event/karaoke-night-3/2028-11-10/
LOCATION:The Forbidden Fruit\, 22 Grand Parade\, St. Leonards-on-Sea\, East Sussex\, TN37 6DN\, United Kingdom
CATEGORIES:Karaoke
ORGANIZER;CN="The Forbidden Fruit":MAILTO:contact@tffhastings.co.uk
END:VEVENT
BEGIN:VEVENT
DTSTART;TZID=Europe/London:20281117T200000
DTEND;TZID=Europe/London:20281118T010000
DTSTAMP:20260425T131530
CREATED:20260102T151936Z
LAST-MODIFIED:20260418T092451Z
UID:10001852-1858104000-1858122000@tffhastings.co.uk
SUMMARY:Karaoke Night!
DESCRIPTION:
URL:https://tffhastings.co.uk/event/karaoke-night-3/2028-11-17/
LOCATION:The Forbidden Fruit\, 22 Grand Parade\, St. Leonards-on-Sea\, East Sussex\, TN37 6DN\, United Kingdom
CATEGORIES:Karaoke
ORGANIZER;CN="The Forbidden Fruit":MAILTO:contact@tffhastings.co.uk
END:VEVENT
BEGIN:VEVENT
DTSTART;TZID=Europe/London:20281124T200000
DTEND;TZID=Europe/London:20281125T010000
DTSTAMP:20260425T131530
CREATED:20260102T151936Z
LAST-MODIFIED:20260418T092451Z
UID:10001853-1858708800-1858726800@tffhastings.co.uk
SUMMARY:Karaoke Night!
DESCRIPTION:
URL:https://tffhastings.co.uk/event/karaoke-night-3/2028-11-24/
LOCATION:The Forbidden Fruit\, 22 Grand Parade\, St. Leonards-on-Sea\, East Sussex\, TN37 6DN\, United Kingdom
CATEGORIES:Karaoke
ORGANIZER;CN="The Forbidden Fruit":MAILTO:contact@tffhastings.co.uk
END:VEVENT
BEGIN:VEVENT
DTSTART;TZID=Europe/London:20281201T200000
DTEND;TZID=Europe/London:20281202T010000
DTSTAMP:20260425T131530
CREATED:20260102T151936Z
LAST-MODIFIED:20260418T092451Z
UID:10001854-1859313600-1859331600@tffhastings.co.uk
SUMMARY:Karaoke Night!
DESCRIPTION:
URL:https://tffhastings.co.uk/event/karaoke-night-3/2028-12-01/
LOCATION:The Forbidden Fruit\, 22 Grand Parade\, St. Leonards-on-Sea\, East Sussex\, TN37 6DN\, United Kingdom
CATEGORIES:Karaoke
ORGANIZER;CN="The Forbidden Fruit":MAILTO:contact@tffhastings.co.uk
END:VEVENT
BEGIN:VEVENT
DTSTART;TZID=Europe/London:20281208T200000
DTEND;TZID=Europe/London:20281209T010000
DTSTAMP:20260425T131530
CREATED:20260102T151936Z
LAST-MODIFIED:20260418T092451Z
UID:10001855-1859918400-1859936400@tffhastings.co.uk
SUMMARY:Karaoke Night!
DESCRIPTION:
URL:https://tffhastings.co.uk/event/karaoke-night-3/2028-12-08/
LOCATION:The Forbidden Fruit\, 22 Grand Parade\, St. Leonards-on-Sea\, East Sussex\, TN37 6DN\, United Kingdom
CATEGORIES:Karaoke
ORGANIZER;CN="The Forbidden Fruit":MAILTO:contact@tffhastings.co.uk
END:VEVENT
BEGIN:VEVENT
DTSTART;TZID=Europe/London:20281215T200000
DTEND;TZID=Europe/London:20281216T010000
DTSTAMP:20260425T131530
CREATED:20260102T151936Z
LAST-MODIFIED:20260418T092451Z
UID:10001856-1860523200-1860541200@tffhastings.co.uk
SUMMARY:Karaoke Night!
DESCRIPTION:
URL:https://tffhastings.co.uk/event/karaoke-night-3/2028-12-15/
LOCATION:The Forbidden Fruit\, 22 Grand Parade\, St. Leonards-on-Sea\, East Sussex\, TN37 6DN\, United Kingdom
CATEGORIES:Karaoke
ORGANIZER;CN="The Forbidden Fruit":MAILTO:contact@tffhastings.co.uk
END:VEVENT
BEGIN:VEVENT
DTSTART;TZID=Europe/London:20281222T200000
DTEND;TZID=Europe/London:20281223T010000
DTSTAMP:20260425T131530
CREATED:20260102T151936Z
LAST-MODIFIED:20260418T092451Z
UID:10001857-1861128000-1861146000@tffhastings.co.uk
SUMMARY:Karaoke Night!
DESCRIPTION:
URL:https://tffhastings.co.uk/event/karaoke-night-3/2028-12-22/
LOCATION:The Forbidden Fruit\, 22 Grand Parade\, St. Leonards-on-Sea\, East Sussex\, TN37 6DN\, United Kingdom
CATEGORIES:Karaoke
ORGANIZER;CN="The Forbidden Fruit":MAILTO:contact@tffhastings.co.uk
END:VEVENT
BEGIN:VEVENT
DTSTART;TZID=Europe/London:20281229T200000
DTEND;TZID=Europe/London:20281230T010000
DTSTAMP:20260425T131530
CREATED:20260102T151936Z
LAST-MODIFIED:20260418T092451Z
UID:10001858-1861732800-1861750800@tffhastings.co.uk
SUMMARY:Karaoke Night!
DESCRIPTION:
URL:https://tffhastings.co.uk/event/karaoke-night-3/2028-12-29/
LOCATION:The Forbidden Fruit\, 22 Grand Parade\, St. Leonards-on-Sea\, East Sussex\, TN37 6DN\, United Kingdom
CATEGORIES:Karaoke
ORGANIZER;CN="The Forbidden Fruit":MAILTO:contact@tffhastings.co.uk
END:VEVENT
BEGIN:VEVENT
DTSTART;TZID=Europe/London:20290105T200000
DTEND;TZID=Europe/London:20290106T010000
DTSTAMP:20260425T131530
CREATED:20260102T151936Z
LAST-MODIFIED:20260418T092451Z
UID:10001859-1862337600-1862355600@tffhastings.co.uk
SUMMARY:Karaoke Night!
DESCRIPTION:
URL:https://tffhastings.co.uk/event/karaoke-night-3/2029-01-05/
LOCATION:The Forbidden Fruit\, 22 Grand Parade\, St. Leonards-on-Sea\, East Sussex\, TN37 6DN\, United Kingdom
CATEGORIES:Karaoke
ORGANIZER;CN="The Forbidden Fruit":MAILTO:contact@tffhastings.co.uk
END:VEVENT
END:VCALENDAR