BEGIN:VCALENDAR
VERSION:2.0
PRODID:-//TFFHastings - ECPv6.15.18//NONSGML v1.0//EN
CALSCALE:GREGORIAN
METHOD:PUBLISH
X-WR-CALNAME:TFFHastings
X-ORIGINAL-URL:https://tffhastings.co.uk
X-WR-CALDESC:Events for TFFHastings
REFRESH-INTERVAL;VALUE=DURATION:PT1H
X-Robots-Tag:noindex
X-PUBLISHED-TTL:PT1H
BEGIN:VTIMEZONE
TZID:Europe/London
BEGIN:DAYLIGHT
TZOFFSETFROM:+0000
TZOFFSETTO:+0100
TZNAME:BST
DTSTART:20280326T010000
END:DAYLIGHT
BEGIN:STANDARD
TZOFFSETFROM:+0100
TZOFFSETTO:+0000
TZNAME:GMT
DTSTART:20281029T010000
END:STANDARD
BEGIN:DAYLIGHT
TZOFFSETFROM:+0000
TZOFFSETTO:+0100
TZNAME:BST
DTSTART:20290325T010000
END:DAYLIGHT
BEGIN:STANDARD
TZOFFSETFROM:+0100
TZOFFSETTO:+0000
TZNAME:GMT
DTSTART:20291028T010000
END:STANDARD
BEGIN:DAYLIGHT
TZOFFSETFROM:+0000
TZOFFSETTO:+0100
TZNAME:BST
DTSTART:20300331T010000
END:DAYLIGHT
BEGIN:STANDARD
TZOFFSETFROM:+0100
TZOFFSETTO:+0000
TZNAME:GMT
DTSTART:20301027T010000
END:STANDARD
BEGIN:DAYLIGHT
TZOFFSETFROM:+0000
TZOFFSETTO:+0100
TZNAME:BST
DTSTART:20310330T010000
END:DAYLIGHT
BEGIN:STANDARD
TZOFFSETFROM:+0100
TZOFFSETTO:+0000
TZNAME:GMT
DTSTART:20311026T010000
END:STANDARD
END:VTIMEZONE
BEGIN:VEVENT
DTSTART;TZID=Europe/London:20291019T200000
DTEND;TZID=Europe/London:20291020T010000
DTSTAMP:20260425T191158
CREATED:20260102T151936Z
LAST-MODIFIED:20260418T092451Z
UID:10001900-1887134400-1887152400@tffhastings.co.uk
SUMMARY:Karaoke Night!
DESCRIPTION:
URL:https://tffhastings.co.uk/event/karaoke-night-3/2029-10-19/
LOCATION:The Forbidden Fruit\, 22 Grand Parade\, St. Leonards-on-Sea\, East Sussex\, TN37 6DN\, United Kingdom
CATEGORIES:Karaoke
ORGANIZER;CN="The Forbidden Fruit":MAILTO:contact@tffhastings.co.uk
END:VEVENT
BEGIN:VEVENT
DTSTART;TZID=Europe/London:20291026T200000
DTEND;TZID=Europe/London:20291027T010000
DTSTAMP:20260425T191158
CREATED:20260102T151936Z
LAST-MODIFIED:20260418T092451Z
UID:10001901-1887739200-1887757200@tffhastings.co.uk
SUMMARY:Karaoke Night!
DESCRIPTION:
URL:https://tffhastings.co.uk/event/karaoke-night-3/2029-10-26/
LOCATION:The Forbidden Fruit\, 22 Grand Parade\, St. Leonards-on-Sea\, East Sussex\, TN37 6DN\, United Kingdom
CATEGORIES:Karaoke
ORGANIZER;CN="The Forbidden Fruit":MAILTO:contact@tffhastings.co.uk
END:VEVENT
BEGIN:VEVENT
DTSTART;TZID=Europe/London:20291102T200000
DTEND;TZID=Europe/London:20291103T010000
DTSTAMP:20260425T191158
CREATED:20260102T151936Z
LAST-MODIFIED:20260418T092451Z
UID:10001902-1888344000-1888362000@tffhastings.co.uk
SUMMARY:Karaoke Night!
DESCRIPTION:
URL:https://tffhastings.co.uk/event/karaoke-night-3/2029-11-02/
LOCATION:The Forbidden Fruit\, 22 Grand Parade\, St. Leonards-on-Sea\, East Sussex\, TN37 6DN\, United Kingdom
CATEGORIES:Karaoke
ORGANIZER;CN="The Forbidden Fruit":MAILTO:contact@tffhastings.co.uk
END:VEVENT
BEGIN:VEVENT
DTSTART;TZID=Europe/London:20291109T200000
DTEND;TZID=Europe/London:20291110T010000
DTSTAMP:20260425T191158
CREATED:20260102T151936Z
LAST-MODIFIED:20260418T092451Z
UID:10001903-1888948800-1888966800@tffhastings.co.uk
SUMMARY:Karaoke Night!
DESCRIPTION:
URL:https://tffhastings.co.uk/event/karaoke-night-3/2029-11-09/
LOCATION:The Forbidden Fruit\, 22 Grand Parade\, St. Leonards-on-Sea\, East Sussex\, TN37 6DN\, United Kingdom
CATEGORIES:Karaoke
ORGANIZER;CN="The Forbidden Fruit":MAILTO:contact@tffhastings.co.uk
END:VEVENT
BEGIN:VEVENT
DTSTART;TZID=Europe/London:20291116T200000
DTEND;TZID=Europe/London:20291117T010000
DTSTAMP:20260425T191158
CREATED:20260102T151936Z
LAST-MODIFIED:20260418T092451Z
UID:10001904-1889553600-1889571600@tffhastings.co.uk
SUMMARY:Karaoke Night!
DESCRIPTION:
URL:https://tffhastings.co.uk/event/karaoke-night-3/2029-11-16/
LOCATION:The Forbidden Fruit\, 22 Grand Parade\, St. Leonards-on-Sea\, East Sussex\, TN37 6DN\, United Kingdom
CATEGORIES:Karaoke
ORGANIZER;CN="The Forbidden Fruit":MAILTO:contact@tffhastings.co.uk
END:VEVENT
BEGIN:VEVENT
DTSTART;TZID=Europe/London:20291123T200000
DTEND;TZID=Europe/London:20291124T010000
DTSTAMP:20260425T191158
CREATED:20260102T151936Z
LAST-MODIFIED:20260418T092451Z
UID:10001905-1890158400-1890176400@tffhastings.co.uk
SUMMARY:Karaoke Night!
DESCRIPTION:
URL:https://tffhastings.co.uk/event/karaoke-night-3/2029-11-23/
LOCATION:The Forbidden Fruit\, 22 Grand Parade\, St. Leonards-on-Sea\, East Sussex\, TN37 6DN\, United Kingdom
CATEGORIES:Karaoke
ORGANIZER;CN="The Forbidden Fruit":MAILTO:contact@tffhastings.co.uk
END:VEVENT
BEGIN:VEVENT
DTSTART;TZID=Europe/London:20291130T200000
DTEND;TZID=Europe/London:20291201T010000
DTSTAMP:20260425T191158
CREATED:20260102T151936Z
LAST-MODIFIED:20260418T092451Z
UID:10001906-1890763200-1890781200@tffhastings.co.uk
SUMMARY:Karaoke Night!
DESCRIPTION:
URL:https://tffhastings.co.uk/event/karaoke-night-3/2029-11-30/
LOCATION:The Forbidden Fruit\, 22 Grand Parade\, St. Leonards-on-Sea\, East Sussex\, TN37 6DN\, United Kingdom
CATEGORIES:Karaoke
ORGANIZER;CN="The Forbidden Fruit":MAILTO:contact@tffhastings.co.uk
END:VEVENT
BEGIN:VEVENT
DTSTART;TZID=Europe/London:20291207T200000
DTEND;TZID=Europe/London:20291208T010000
DTSTAMP:20260425T191158
CREATED:20260102T151936Z
LAST-MODIFIED:20260418T092451Z
UID:10001907-1891368000-1891386000@tffhastings.co.uk
SUMMARY:Karaoke Night!
DESCRIPTION:
URL:https://tffhastings.co.uk/event/karaoke-night-3/2029-12-07/
LOCATION:The Forbidden Fruit\, 22 Grand Parade\, St. Leonards-on-Sea\, East Sussex\, TN37 6DN\, United Kingdom
CATEGORIES:Karaoke
ORGANIZER;CN="The Forbidden Fruit":MAILTO:contact@tffhastings.co.uk
END:VEVENT
BEGIN:VEVENT
DTSTART;TZID=Europe/London:20291214T200000
DTEND;TZID=Europe/London:20291215T010000
DTSTAMP:20260425T191158
CREATED:20260102T151936Z
LAST-MODIFIED:20260418T092451Z
UID:10001908-1891972800-1891990800@tffhastings.co.uk
SUMMARY:Karaoke Night!
DESCRIPTION:
URL:https://tffhastings.co.uk/event/karaoke-night-3/2029-12-14/
LOCATION:The Forbidden Fruit\, 22 Grand Parade\, St. Leonards-on-Sea\, East Sussex\, TN37 6DN\, United Kingdom
CATEGORIES:Karaoke
ORGANIZER;CN="The Forbidden Fruit":MAILTO:contact@tffhastings.co.uk
END:VEVENT
BEGIN:VEVENT
DTSTART;TZID=Europe/London:20291221T200000
DTEND;TZID=Europe/London:20291222T010000
DTSTAMP:20260425T191158
CREATED:20260102T151936Z
LAST-MODIFIED:20260418T092451Z
UID:10001909-1892577600-1892595600@tffhastings.co.uk
SUMMARY:Karaoke Night!
DESCRIPTION:
URL:https://tffhastings.co.uk/event/karaoke-night-3/2029-12-21/
LOCATION:The Forbidden Fruit\, 22 Grand Parade\, St. Leonards-on-Sea\, East Sussex\, TN37 6DN\, United Kingdom
CATEGORIES:Karaoke
ORGANIZER;CN="The Forbidden Fruit":MAILTO:contact@tffhastings.co.uk
END:VEVENT
BEGIN:VEVENT
DTSTART;TZID=Europe/London:20291228T200000
DTEND;TZID=Europe/London:20291229T010000
DTSTAMP:20260425T191158
CREATED:20260102T151936Z
LAST-MODIFIED:20260418T092451Z
UID:10001910-1893182400-1893200400@tffhastings.co.uk
SUMMARY:Karaoke Night!
DESCRIPTION:
URL:https://tffhastings.co.uk/event/karaoke-night-3/2029-12-28/
LOCATION:The Forbidden Fruit\, 22 Grand Parade\, St. Leonards-on-Sea\, East Sussex\, TN37 6DN\, United Kingdom
CATEGORIES:Karaoke
ORGANIZER;CN="The Forbidden Fruit":MAILTO:contact@tffhastings.co.uk
END:VEVENT
BEGIN:VEVENT
DTSTART;TZID=Europe/London:20300104T200000
DTEND;TZID=Europe/London:20300105T010000
DTSTAMP:20260425T191158
CREATED:20260102T151936Z
LAST-MODIFIED:20260418T092451Z
UID:10001911-1893787200-1893805200@tffhastings.co.uk
SUMMARY:Karaoke Night!
DESCRIPTION:
URL:https://tffhastings.co.uk/event/karaoke-night-3/2030-01-04/
LOCATION:The Forbidden Fruit\, 22 Grand Parade\, St. Leonards-on-Sea\, East Sussex\, TN37 6DN\, United Kingdom
CATEGORIES:Karaoke
ORGANIZER;CN="The Forbidden Fruit":MAILTO:contact@tffhastings.co.uk
END:VEVENT
BEGIN:VEVENT
DTSTART;TZID=Europe/London:20300111T200000
DTEND;TZID=Europe/London:20300112T010000
DTSTAMP:20260425T191158
CREATED:20260102T151936Z
LAST-MODIFIED:20260418T092451Z
UID:10001912-1894392000-1894410000@tffhastings.co.uk
SUMMARY:Karaoke Night!
DESCRIPTION:
URL:https://tffhastings.co.uk/event/karaoke-night-3/2030-01-11/
LOCATION:The Forbidden Fruit\, 22 Grand Parade\, St. Leonards-on-Sea\, East Sussex\, TN37 6DN\, United Kingdom
CATEGORIES:Karaoke
ORGANIZER;CN="The Forbidden Fruit":MAILTO:contact@tffhastings.co.uk
END:VEVENT
BEGIN:VEVENT
DTSTART;TZID=Europe/London:20300118T200000
DTEND;TZID=Europe/London:20300119T010000
DTSTAMP:20260425T191158
CREATED:20260102T151936Z
LAST-MODIFIED:20260418T092451Z
UID:10001913-1894996800-1895014800@tffhastings.co.uk
SUMMARY:Karaoke Night!
DESCRIPTION:
URL:https://tffhastings.co.uk/event/karaoke-night-3/2030-01-18/
LOCATION:The Forbidden Fruit\, 22 Grand Parade\, St. Leonards-on-Sea\, East Sussex\, TN37 6DN\, United Kingdom
CATEGORIES:Karaoke
ORGANIZER;CN="The Forbidden Fruit":MAILTO:contact@tffhastings.co.uk
END:VEVENT
BEGIN:VEVENT
DTSTART;TZID=Europe/London:20300125T200000
DTEND;TZID=Europe/London:20300126T010000
DTSTAMP:20260425T191158
CREATED:20260102T151936Z
LAST-MODIFIED:20260418T092451Z
UID:10001914-1895601600-1895619600@tffhastings.co.uk
SUMMARY:Karaoke Night!
DESCRIPTION:
URL:https://tffhastings.co.uk/event/karaoke-night-3/2030-01-25/
LOCATION:The Forbidden Fruit\, 22 Grand Parade\, St. Leonards-on-Sea\, East Sussex\, TN37 6DN\, United Kingdom
CATEGORIES:Karaoke
ORGANIZER;CN="The Forbidden Fruit":MAILTO:contact@tffhastings.co.uk
END:VEVENT
BEGIN:VEVENT
DTSTART;TZID=Europe/London:20300201T200000
DTEND;TZID=Europe/London:20300202T010000
DTSTAMP:20260425T191158
CREATED:20260102T151936Z
LAST-MODIFIED:20260418T092451Z
UID:10001915-1896206400-1896224400@tffhastings.co.uk
SUMMARY:Karaoke Night!
DESCRIPTION:
URL:https://tffhastings.co.uk/event/karaoke-night-3/2030-02-01/
LOCATION:The Forbidden Fruit\, 22 Grand Parade\, St. Leonards-on-Sea\, East Sussex\, TN37 6DN\, United Kingdom
CATEGORIES:Karaoke
ORGANIZER;CN="The Forbidden Fruit":MAILTO:contact@tffhastings.co.uk
END:VEVENT
BEGIN:VEVENT
DTSTART;TZID=Europe/London:20300208T200000
DTEND;TZID=Europe/London:20300209T010000
DTSTAMP:20260425T191158
CREATED:20260102T151936Z
LAST-MODIFIED:20260418T092451Z
UID:10001916-1896811200-1896829200@tffhastings.co.uk
SUMMARY:Karaoke Night!
DESCRIPTION:
URL:https://tffhastings.co.uk/event/karaoke-night-3/2030-02-08/
LOCATION:The Forbidden Fruit\, 22 Grand Parade\, St. Leonards-on-Sea\, East Sussex\, TN37 6DN\, United Kingdom
CATEGORIES:Karaoke
ORGANIZER;CN="The Forbidden Fruit":MAILTO:contact@tffhastings.co.uk
END:VEVENT
BEGIN:VEVENT
DTSTART;TZID=Europe/London:20300215T200000
DTEND;TZID=Europe/London:20300216T010000
DTSTAMP:20260425T191158
CREATED:20260102T151936Z
LAST-MODIFIED:20260418T092451Z
UID:10001917-1897416000-1897434000@tffhastings.co.uk
SUMMARY:Karaoke Night!
DESCRIPTION:
URL:https://tffhastings.co.uk/event/karaoke-night-3/2030-02-15/
LOCATION:The Forbidden Fruit\, 22 Grand Parade\, St. Leonards-on-Sea\, East Sussex\, TN37 6DN\, United Kingdom
CATEGORIES:Karaoke
ORGANIZER;CN="The Forbidden Fruit":MAILTO:contact@tffhastings.co.uk
END:VEVENT
BEGIN:VEVENT
DTSTART;TZID=Europe/London:20300222T200000
DTEND;TZID=Europe/London:20300223T010000
DTSTAMP:20260425T191158
CREATED:20260102T151936Z
LAST-MODIFIED:20260418T092451Z
UID:10001918-1898020800-1898038800@tffhastings.co.uk
SUMMARY:Karaoke Night!
DESCRIPTION:
URL:https://tffhastings.co.uk/event/karaoke-night-3/2030-02-22/
LOCATION:The Forbidden Fruit\, 22 Grand Parade\, St. Leonards-on-Sea\, East Sussex\, TN37 6DN\, United Kingdom
CATEGORIES:Karaoke
ORGANIZER;CN="The Forbidden Fruit":MAILTO:contact@tffhastings.co.uk
END:VEVENT
BEGIN:VEVENT
DTSTART;TZID=Europe/London:20300301T200000
DTEND;TZID=Europe/London:20300302T010000
DTSTAMP:20260425T191158
CREATED:20260102T151936Z
LAST-MODIFIED:20260418T092451Z
UID:10001919-1898625600-1898643600@tffhastings.co.uk
SUMMARY:Karaoke Night!
DESCRIPTION:
URL:https://tffhastings.co.uk/event/karaoke-night-3/2030-03-01/
LOCATION:The Forbidden Fruit\, 22 Grand Parade\, St. Leonards-on-Sea\, East Sussex\, TN37 6DN\, United Kingdom
CATEGORIES:Karaoke
ORGANIZER;CN="The Forbidden Fruit":MAILTO:contact@tffhastings.co.uk
END:VEVENT
BEGIN:VEVENT
DTSTART;TZID=Europe/London:20300308T200000
DTEND;TZID=Europe/London:20300309T010000
DTSTAMP:20260425T191158
CREATED:20260102T151936Z
LAST-MODIFIED:20260418T092451Z
UID:10001920-1899230400-1899248400@tffhastings.co.uk
SUMMARY:Karaoke Night!
DESCRIPTION:
URL:https://tffhastings.co.uk/event/karaoke-night-3/2030-03-08/
LOCATION:The Forbidden Fruit\, 22 Grand Parade\, St. Leonards-on-Sea\, East Sussex\, TN37 6DN\, United Kingdom
CATEGORIES:Karaoke
ORGANIZER;CN="The Forbidden Fruit":MAILTO:contact@tffhastings.co.uk
END:VEVENT
BEGIN:VEVENT
DTSTART;TZID=Europe/London:20300315T200000
DTEND;TZID=Europe/London:20300316T010000
DTSTAMP:20260425T191158
CREATED:20260102T151936Z
LAST-MODIFIED:20260418T092451Z
UID:10001921-1899835200-1899853200@tffhastings.co.uk
SUMMARY:Karaoke Night!
DESCRIPTION:
URL:https://tffhastings.co.uk/event/karaoke-night-3/2030-03-15/
LOCATION:The Forbidden Fruit\, 22 Grand Parade\, St. Leonards-on-Sea\, East Sussex\, TN37 6DN\, United Kingdom
CATEGORIES:Karaoke
ORGANIZER;CN="The Forbidden Fruit":MAILTO:contact@tffhastings.co.uk
END:VEVENT
BEGIN:VEVENT
DTSTART;TZID=Europe/London:20300322T200000
DTEND;TZID=Europe/London:20300323T010000
DTSTAMP:20260425T191158
CREATED:20260102T151936Z
LAST-MODIFIED:20260418T092451Z
UID:10001922-1900440000-1900458000@tffhastings.co.uk
SUMMARY:Karaoke Night!
DESCRIPTION:
URL:https://tffhastings.co.uk/event/karaoke-night-3/2030-03-22/
LOCATION:The Forbidden Fruit\, 22 Grand Parade\, St. Leonards-on-Sea\, East Sussex\, TN37 6DN\, United Kingdom
CATEGORIES:Karaoke
ORGANIZER;CN="The Forbidden Fruit":MAILTO:contact@tffhastings.co.uk
END:VEVENT
BEGIN:VEVENT
DTSTART;TZID=Europe/London:20300329T200000
DTEND;TZID=Europe/London:20300330T010000
DTSTAMP:20260425T191158
CREATED:20260102T151936Z
LAST-MODIFIED:20260418T092451Z
UID:10001923-1901044800-1901062800@tffhastings.co.uk
SUMMARY:Karaoke Night!
DESCRIPTION:
URL:https://tffhastings.co.uk/event/karaoke-night-3/2030-03-29/
LOCATION:The Forbidden Fruit\, 22 Grand Parade\, St. Leonards-on-Sea\, East Sussex\, TN37 6DN\, United Kingdom
CATEGORIES:Karaoke
ORGANIZER;CN="The Forbidden Fruit":MAILTO:contact@tffhastings.co.uk
END:VEVENT
BEGIN:VEVENT
DTSTART;TZID=Europe/London:20300405T200000
DTEND;TZID=Europe/London:20300406T010000
DTSTAMP:20260425T191158
CREATED:20260102T151936Z
LAST-MODIFIED:20260418T092451Z
UID:10001924-1901649600-1901667600@tffhastings.co.uk
SUMMARY:Karaoke Night!
DESCRIPTION:
URL:https://tffhastings.co.uk/event/karaoke-night-3/2030-04-05/
LOCATION:The Forbidden Fruit\, 22 Grand Parade\, St. Leonards-on-Sea\, East Sussex\, TN37 6DN\, United Kingdom
CATEGORIES:Karaoke
ORGANIZER;CN="The Forbidden Fruit":MAILTO:contact@tffhastings.co.uk
END:VEVENT
BEGIN:VEVENT
DTSTART;TZID=Europe/London:20300412T200000
DTEND;TZID=Europe/London:20300413T010000
DTSTAMP:20260425T191158
CREATED:20260102T151936Z
LAST-MODIFIED:20260418T092451Z
UID:10001925-1902254400-1902272400@tffhastings.co.uk
SUMMARY:Karaoke Night!
DESCRIPTION:
URL:https://tffhastings.co.uk/event/karaoke-night-3/2030-04-12/
LOCATION:The Forbidden Fruit\, 22 Grand Parade\, St. Leonards-on-Sea\, East Sussex\, TN37 6DN\, United Kingdom
CATEGORIES:Karaoke
ORGANIZER;CN="The Forbidden Fruit":MAILTO:contact@tffhastings.co.uk
END:VEVENT
BEGIN:VEVENT
DTSTART;TZID=Europe/London:20300419T200000
DTEND;TZID=Europe/London:20300420T010000
DTSTAMP:20260425T191158
CREATED:20260102T151936Z
LAST-MODIFIED:20260418T092451Z
UID:10001926-1902859200-1902877200@tffhastings.co.uk
SUMMARY:Karaoke Night!
DESCRIPTION:
URL:https://tffhastings.co.uk/event/karaoke-night-3/2030-04-19/
LOCATION:The Forbidden Fruit\, 22 Grand Parade\, St. Leonards-on-Sea\, East Sussex\, TN37 6DN\, United Kingdom
CATEGORIES:Karaoke
ORGANIZER;CN="The Forbidden Fruit":MAILTO:contact@tffhastings.co.uk
END:VEVENT
BEGIN:VEVENT
DTSTART;TZID=Europe/London:20300426T200000
DTEND;TZID=Europe/London:20300427T010000
DTSTAMP:20260425T191158
CREATED:20260102T151936Z
LAST-MODIFIED:20260418T092451Z
UID:10001927-1903464000-1903482000@tffhastings.co.uk
SUMMARY:Karaoke Night!
DESCRIPTION:
URL:https://tffhastings.co.uk/event/karaoke-night-3/2030-04-26/
LOCATION:The Forbidden Fruit\, 22 Grand Parade\, St. Leonards-on-Sea\, East Sussex\, TN37 6DN\, United Kingdom
CATEGORIES:Karaoke
ORGANIZER;CN="The Forbidden Fruit":MAILTO:contact@tffhastings.co.uk
END:VEVENT
BEGIN:VEVENT
DTSTART;TZID=Europe/London:20300503T200000
DTEND;TZID=Europe/London:20300504T010000
DTSTAMP:20260425T191158
CREATED:20260102T151936Z
LAST-MODIFIED:20260418T092451Z
UID:10001928-1904068800-1904086800@tffhastings.co.uk
SUMMARY:Karaoke Night!
DESCRIPTION:
URL:https://tffhastings.co.uk/event/karaoke-night-3/2030-05-03/
LOCATION:The Forbidden Fruit\, 22 Grand Parade\, St. Leonards-on-Sea\, East Sussex\, TN37 6DN\, United Kingdom
CATEGORIES:Karaoke
ORGANIZER;CN="The Forbidden Fruit":MAILTO:contact@tffhastings.co.uk
END:VEVENT
BEGIN:VEVENT
DTSTART;TZID=Europe/London:20300510T200000
DTEND;TZID=Europe/London:20300511T010000
DTSTAMP:20260425T191158
CREATED:20260102T151936Z
LAST-MODIFIED:20260418T092451Z
UID:10001929-1904673600-1904691600@tffhastings.co.uk
SUMMARY:Karaoke Night!
DESCRIPTION:
URL:https://tffhastings.co.uk/event/karaoke-night-3/2030-05-10/
LOCATION:The Forbidden Fruit\, 22 Grand Parade\, St. Leonards-on-Sea\, East Sussex\, TN37 6DN\, United Kingdom
CATEGORIES:Karaoke
ORGANIZER;CN="The Forbidden Fruit":MAILTO:contact@tffhastings.co.uk
END:VEVENT
END:VCALENDAR