BEGIN:VCALENDAR
VERSION:2.0
PRODID:-//TFFHastings - ECPv6.15.18//NONSGML v1.0//EN
CALSCALE:GREGORIAN
METHOD:PUBLISH
X-WR-CALNAME:TFFHastings
X-ORIGINAL-URL:https://tffhastings.co.uk
X-WR-CALDESC:Events for TFFHastings
REFRESH-INTERVAL;VALUE=DURATION:PT1H
X-Robots-Tag:noindex
X-PUBLISHED-TTL:PT1H
BEGIN:VTIMEZONE
TZID:Europe/London
BEGIN:DAYLIGHT
TZOFFSETFROM:+0000
TZOFFSETTO:+0100
TZNAME:BST
DTSTART:20290325T010000
END:DAYLIGHT
BEGIN:STANDARD
TZOFFSETFROM:+0100
TZOFFSETTO:+0000
TZNAME:GMT
DTSTART:20291028T010000
END:STANDARD
BEGIN:DAYLIGHT
TZOFFSETFROM:+0000
TZOFFSETTO:+0100
TZNAME:BST
DTSTART:20300331T010000
END:DAYLIGHT
BEGIN:STANDARD
TZOFFSETFROM:+0100
TZOFFSETTO:+0000
TZNAME:GMT
DTSTART:20301027T010000
END:STANDARD
BEGIN:DAYLIGHT
TZOFFSETFROM:+0000
TZOFFSETTO:+0100
TZNAME:BST
DTSTART:20310330T010000
END:DAYLIGHT
BEGIN:STANDARD
TZOFFSETFROM:+0100
TZOFFSETTO:+0000
TZNAME:GMT
DTSTART:20311026T010000
END:STANDARD
END:VTIMEZONE
BEGIN:VEVENT
DTSTART;TZID=Europe/London:20300405T200000
DTEND;TZID=Europe/London:20300406T010000
DTSTAMP:20260425T221820
CREATED:20260102T151936Z
LAST-MODIFIED:20260418T092451Z
UID:10001924-1901649600-1901667600@tffhastings.co.uk
SUMMARY:Karaoke Night!
DESCRIPTION:
URL:https://tffhastings.co.uk/event/karaoke-night-3/2030-04-05/
LOCATION:The Forbidden Fruit\, 22 Grand Parade\, St. Leonards-on-Sea\, East Sussex\, TN37 6DN\, United Kingdom
CATEGORIES:Karaoke
ORGANIZER;CN="The Forbidden Fruit":MAILTO:contact@tffhastings.co.uk
END:VEVENT
BEGIN:VEVENT
DTSTART;TZID=Europe/London:20300412T200000
DTEND;TZID=Europe/London:20300413T010000
DTSTAMP:20260425T221820
CREATED:20260102T151936Z
LAST-MODIFIED:20260418T092451Z
UID:10001925-1902254400-1902272400@tffhastings.co.uk
SUMMARY:Karaoke Night!
DESCRIPTION:
URL:https://tffhastings.co.uk/event/karaoke-night-3/2030-04-12/
LOCATION:The Forbidden Fruit\, 22 Grand Parade\, St. Leonards-on-Sea\, East Sussex\, TN37 6DN\, United Kingdom
CATEGORIES:Karaoke
ORGANIZER;CN="The Forbidden Fruit":MAILTO:contact@tffhastings.co.uk
END:VEVENT
BEGIN:VEVENT
DTSTART;TZID=Europe/London:20300419T200000
DTEND;TZID=Europe/London:20300420T010000
DTSTAMP:20260425T221820
CREATED:20260102T151936Z
LAST-MODIFIED:20260418T092451Z
UID:10001926-1902859200-1902877200@tffhastings.co.uk
SUMMARY:Karaoke Night!
DESCRIPTION:
URL:https://tffhastings.co.uk/event/karaoke-night-3/2030-04-19/
LOCATION:The Forbidden Fruit\, 22 Grand Parade\, St. Leonards-on-Sea\, East Sussex\, TN37 6DN\, United Kingdom
CATEGORIES:Karaoke
ORGANIZER;CN="The Forbidden Fruit":MAILTO:contact@tffhastings.co.uk
END:VEVENT
BEGIN:VEVENT
DTSTART;TZID=Europe/London:20300426T200000
DTEND;TZID=Europe/London:20300427T010000
DTSTAMP:20260425T221820
CREATED:20260102T151936Z
LAST-MODIFIED:20260418T092451Z
UID:10001927-1903464000-1903482000@tffhastings.co.uk
SUMMARY:Karaoke Night!
DESCRIPTION:
URL:https://tffhastings.co.uk/event/karaoke-night-3/2030-04-26/
LOCATION:The Forbidden Fruit\, 22 Grand Parade\, St. Leonards-on-Sea\, East Sussex\, TN37 6DN\, United Kingdom
CATEGORIES:Karaoke
ORGANIZER;CN="The Forbidden Fruit":MAILTO:contact@tffhastings.co.uk
END:VEVENT
BEGIN:VEVENT
DTSTART;TZID=Europe/London:20300503T200000
DTEND;TZID=Europe/London:20300504T010000
DTSTAMP:20260425T221820
CREATED:20260102T151936Z
LAST-MODIFIED:20260418T092451Z
UID:10001928-1904068800-1904086800@tffhastings.co.uk
SUMMARY:Karaoke Night!
DESCRIPTION:
URL:https://tffhastings.co.uk/event/karaoke-night-3/2030-05-03/
LOCATION:The Forbidden Fruit\, 22 Grand Parade\, St. Leonards-on-Sea\, East Sussex\, TN37 6DN\, United Kingdom
CATEGORIES:Karaoke
ORGANIZER;CN="The Forbidden Fruit":MAILTO:contact@tffhastings.co.uk
END:VEVENT
BEGIN:VEVENT
DTSTART;TZID=Europe/London:20300510T200000
DTEND;TZID=Europe/London:20300511T010000
DTSTAMP:20260425T221820
CREATED:20260102T151936Z
LAST-MODIFIED:20260418T092451Z
UID:10001929-1904673600-1904691600@tffhastings.co.uk
SUMMARY:Karaoke Night!
DESCRIPTION:
URL:https://tffhastings.co.uk/event/karaoke-night-3/2030-05-10/
LOCATION:The Forbidden Fruit\, 22 Grand Parade\, St. Leonards-on-Sea\, East Sussex\, TN37 6DN\, United Kingdom
CATEGORIES:Karaoke
ORGANIZER;CN="The Forbidden Fruit":MAILTO:contact@tffhastings.co.uk
END:VEVENT
BEGIN:VEVENT
DTSTART;TZID=Europe/London:20300517T200000
DTEND;TZID=Europe/London:20300518T010000
DTSTAMP:20260425T221820
CREATED:20260102T151936Z
LAST-MODIFIED:20260418T092451Z
UID:10001930-1905278400-1905296400@tffhastings.co.uk
SUMMARY:Karaoke Night!
DESCRIPTION:
URL:https://tffhastings.co.uk/event/karaoke-night-3/2030-05-17/
LOCATION:The Forbidden Fruit\, 22 Grand Parade\, St. Leonards-on-Sea\, East Sussex\, TN37 6DN\, United Kingdom
CATEGORIES:Karaoke
ORGANIZER;CN="The Forbidden Fruit":MAILTO:contact@tffhastings.co.uk
END:VEVENT
BEGIN:VEVENT
DTSTART;TZID=Europe/London:20300524T200000
DTEND;TZID=Europe/London:20300525T010000
DTSTAMP:20260425T221820
CREATED:20260102T151936Z
LAST-MODIFIED:20260418T092451Z
UID:10001931-1905883200-1905901200@tffhastings.co.uk
SUMMARY:Karaoke Night!
DESCRIPTION:
URL:https://tffhastings.co.uk/event/karaoke-night-3/2030-05-24/
LOCATION:The Forbidden Fruit\, 22 Grand Parade\, St. Leonards-on-Sea\, East Sussex\, TN37 6DN\, United Kingdom
CATEGORIES:Karaoke
ORGANIZER;CN="The Forbidden Fruit":MAILTO:contact@tffhastings.co.uk
END:VEVENT
BEGIN:VEVENT
DTSTART;TZID=Europe/London:20300531T200000
DTEND;TZID=Europe/London:20300601T010000
DTSTAMP:20260425T221820
CREATED:20260102T151936Z
LAST-MODIFIED:20260418T092451Z
UID:10001932-1906488000-1906506000@tffhastings.co.uk
SUMMARY:Karaoke Night!
DESCRIPTION:
URL:https://tffhastings.co.uk/event/karaoke-night-3/2030-05-31/
LOCATION:The Forbidden Fruit\, 22 Grand Parade\, St. Leonards-on-Sea\, East Sussex\, TN37 6DN\, United Kingdom
CATEGORIES:Karaoke
ORGANIZER;CN="The Forbidden Fruit":MAILTO:contact@tffhastings.co.uk
END:VEVENT
BEGIN:VEVENT
DTSTART;TZID=Europe/London:20300607T200000
DTEND;TZID=Europe/London:20300608T010000
DTSTAMP:20260425T221820
CREATED:20260102T151936Z
LAST-MODIFIED:20260418T092451Z
UID:10001933-1907092800-1907110800@tffhastings.co.uk
SUMMARY:Karaoke Night!
DESCRIPTION:
URL:https://tffhastings.co.uk/event/karaoke-night-3/2030-06-07/
LOCATION:The Forbidden Fruit\, 22 Grand Parade\, St. Leonards-on-Sea\, East Sussex\, TN37 6DN\, United Kingdom
CATEGORIES:Karaoke
ORGANIZER;CN="The Forbidden Fruit":MAILTO:contact@tffhastings.co.uk
END:VEVENT
BEGIN:VEVENT
DTSTART;TZID=Europe/London:20300614T200000
DTEND;TZID=Europe/London:20300615T010000
DTSTAMP:20260425T221820
CREATED:20260102T151936Z
LAST-MODIFIED:20260418T092451Z
UID:10001934-1907697600-1907715600@tffhastings.co.uk
SUMMARY:Karaoke Night!
DESCRIPTION:
URL:https://tffhastings.co.uk/event/karaoke-night-3/2030-06-14/
LOCATION:The Forbidden Fruit\, 22 Grand Parade\, St. Leonards-on-Sea\, East Sussex\, TN37 6DN\, United Kingdom
CATEGORIES:Karaoke
ORGANIZER;CN="The Forbidden Fruit":MAILTO:contact@tffhastings.co.uk
END:VEVENT
BEGIN:VEVENT
DTSTART;TZID=Europe/London:20300621T200000
DTEND;TZID=Europe/London:20300622T010000
DTSTAMP:20260425T221820
CREATED:20260102T151936Z
LAST-MODIFIED:20260418T092451Z
UID:10001935-1908302400-1908320400@tffhastings.co.uk
SUMMARY:Karaoke Night!
DESCRIPTION:
URL:https://tffhastings.co.uk/event/karaoke-night-3/2030-06-21/
LOCATION:The Forbidden Fruit\, 22 Grand Parade\, St. Leonards-on-Sea\, East Sussex\, TN37 6DN\, United Kingdom
CATEGORIES:Karaoke
ORGANIZER;CN="The Forbidden Fruit":MAILTO:contact@tffhastings.co.uk
END:VEVENT
BEGIN:VEVENT
DTSTART;TZID=Europe/London:20300628T200000
DTEND;TZID=Europe/London:20300629T010000
DTSTAMP:20260425T221820
CREATED:20260102T151936Z
LAST-MODIFIED:20260418T092451Z
UID:10001936-1908907200-1908925200@tffhastings.co.uk
SUMMARY:Karaoke Night!
DESCRIPTION:
URL:https://tffhastings.co.uk/event/karaoke-night-3/2030-06-28/
LOCATION:The Forbidden Fruit\, 22 Grand Parade\, St. Leonards-on-Sea\, East Sussex\, TN37 6DN\, United Kingdom
CATEGORIES:Karaoke
ORGANIZER;CN="The Forbidden Fruit":MAILTO:contact@tffhastings.co.uk
END:VEVENT
BEGIN:VEVENT
DTSTART;TZID=Europe/London:20300705T200000
DTEND;TZID=Europe/London:20300706T010000
DTSTAMP:20260425T221820
CREATED:20260102T151936Z
LAST-MODIFIED:20260418T092451Z
UID:10001937-1909512000-1909530000@tffhastings.co.uk
SUMMARY:Karaoke Night!
DESCRIPTION:
URL:https://tffhastings.co.uk/event/karaoke-night-3/2030-07-05/
LOCATION:The Forbidden Fruit\, 22 Grand Parade\, St. Leonards-on-Sea\, East Sussex\, TN37 6DN\, United Kingdom
CATEGORIES:Karaoke
ORGANIZER;CN="The Forbidden Fruit":MAILTO:contact@tffhastings.co.uk
END:VEVENT
BEGIN:VEVENT
DTSTART;TZID=Europe/London:20300712T200000
DTEND;TZID=Europe/London:20300713T010000
DTSTAMP:20260425T221820
CREATED:20260102T151936Z
LAST-MODIFIED:20260418T092451Z
UID:10001938-1910116800-1910134800@tffhastings.co.uk
SUMMARY:Karaoke Night!
DESCRIPTION:
URL:https://tffhastings.co.uk/event/karaoke-night-3/2030-07-12/
LOCATION:The Forbidden Fruit\, 22 Grand Parade\, St. Leonards-on-Sea\, East Sussex\, TN37 6DN\, United Kingdom
CATEGORIES:Karaoke
ORGANIZER;CN="The Forbidden Fruit":MAILTO:contact@tffhastings.co.uk
END:VEVENT
BEGIN:VEVENT
DTSTART;TZID=Europe/London:20300719T200000
DTEND;TZID=Europe/London:20300720T010000
DTSTAMP:20260425T221820
CREATED:20260102T151936Z
LAST-MODIFIED:20260418T092451Z
UID:10001939-1910721600-1910739600@tffhastings.co.uk
SUMMARY:Karaoke Night!
DESCRIPTION:
URL:https://tffhastings.co.uk/event/karaoke-night-3/2030-07-19/
LOCATION:The Forbidden Fruit\, 22 Grand Parade\, St. Leonards-on-Sea\, East Sussex\, TN37 6DN\, United Kingdom
CATEGORIES:Karaoke
ORGANIZER;CN="The Forbidden Fruit":MAILTO:contact@tffhastings.co.uk
END:VEVENT
BEGIN:VEVENT
DTSTART;TZID=Europe/London:20300726T200000
DTEND;TZID=Europe/London:20300727T010000
DTSTAMP:20260425T221820
CREATED:20260102T151936Z
LAST-MODIFIED:20260418T092451Z
UID:10001940-1911326400-1911344400@tffhastings.co.uk
SUMMARY:Karaoke Night!
DESCRIPTION:
URL:https://tffhastings.co.uk/event/karaoke-night-3/2030-07-26/
LOCATION:The Forbidden Fruit\, 22 Grand Parade\, St. Leonards-on-Sea\, East Sussex\, TN37 6DN\, United Kingdom
CATEGORIES:Karaoke
ORGANIZER;CN="The Forbidden Fruit":MAILTO:contact@tffhastings.co.uk
END:VEVENT
BEGIN:VEVENT
DTSTART;TZID=Europe/London:20300802T200000
DTEND;TZID=Europe/London:20300803T010000
DTSTAMP:20260425T221820
CREATED:20260102T151936Z
LAST-MODIFIED:20260418T092451Z
UID:10001941-1911931200-1911949200@tffhastings.co.uk
SUMMARY:Karaoke Night!
DESCRIPTION:
URL:https://tffhastings.co.uk/event/karaoke-night-3/2030-08-02/
LOCATION:The Forbidden Fruit\, 22 Grand Parade\, St. Leonards-on-Sea\, East Sussex\, TN37 6DN\, United Kingdom
CATEGORIES:Karaoke
ORGANIZER;CN="The Forbidden Fruit":MAILTO:contact@tffhastings.co.uk
END:VEVENT
BEGIN:VEVENT
DTSTART;TZID=Europe/London:20300809T200000
DTEND;TZID=Europe/London:20300810T010000
DTSTAMP:20260425T221820
CREATED:20260102T151936Z
LAST-MODIFIED:20260418T092451Z
UID:10001942-1912536000-1912554000@tffhastings.co.uk
SUMMARY:Karaoke Night!
DESCRIPTION:
URL:https://tffhastings.co.uk/event/karaoke-night-3/2030-08-09/
LOCATION:The Forbidden Fruit\, 22 Grand Parade\, St. Leonards-on-Sea\, East Sussex\, TN37 6DN\, United Kingdom
CATEGORIES:Karaoke
ORGANIZER;CN="The Forbidden Fruit":MAILTO:contact@tffhastings.co.uk
END:VEVENT
BEGIN:VEVENT
DTSTART;TZID=Europe/London:20300816T200000
DTEND;TZID=Europe/London:20300817T010000
DTSTAMP:20260425T221820
CREATED:20260102T151936Z
LAST-MODIFIED:20260418T092451Z
UID:10001943-1913140800-1913158800@tffhastings.co.uk
SUMMARY:Karaoke Night!
DESCRIPTION:
URL:https://tffhastings.co.uk/event/karaoke-night-3/2030-08-16/
LOCATION:The Forbidden Fruit\, 22 Grand Parade\, St. Leonards-on-Sea\, East Sussex\, TN37 6DN\, United Kingdom
CATEGORIES:Karaoke
ORGANIZER;CN="The Forbidden Fruit":MAILTO:contact@tffhastings.co.uk
END:VEVENT
BEGIN:VEVENT
DTSTART;TZID=Europe/London:20300823T200000
DTEND;TZID=Europe/London:20300824T010000
DTSTAMP:20260425T221820
CREATED:20260102T151936Z
LAST-MODIFIED:20260418T092451Z
UID:10001944-1913745600-1913763600@tffhastings.co.uk
SUMMARY:Karaoke Night!
DESCRIPTION:
URL:https://tffhastings.co.uk/event/karaoke-night-3/2030-08-23/
LOCATION:The Forbidden Fruit\, 22 Grand Parade\, St. Leonards-on-Sea\, East Sussex\, TN37 6DN\, United Kingdom
CATEGORIES:Karaoke
ORGANIZER;CN="The Forbidden Fruit":MAILTO:contact@tffhastings.co.uk
END:VEVENT
BEGIN:VEVENT
DTSTART;TZID=Europe/London:20300830T200000
DTEND;TZID=Europe/London:20300831T010000
DTSTAMP:20260425T221820
CREATED:20260102T151936Z
LAST-MODIFIED:20260418T092451Z
UID:10001945-1914350400-1914368400@tffhastings.co.uk
SUMMARY:Karaoke Night!
DESCRIPTION:
URL:https://tffhastings.co.uk/event/karaoke-night-3/2030-08-30/
LOCATION:The Forbidden Fruit\, 22 Grand Parade\, St. Leonards-on-Sea\, East Sussex\, TN37 6DN\, United Kingdom
CATEGORIES:Karaoke
ORGANIZER;CN="The Forbidden Fruit":MAILTO:contact@tffhastings.co.uk
END:VEVENT
BEGIN:VEVENT
DTSTART;TZID=Europe/London:20300906T200000
DTEND;TZID=Europe/London:20300907T010000
DTSTAMP:20260425T221820
CREATED:20260102T151936Z
LAST-MODIFIED:20260418T092451Z
UID:10001946-1914955200-1914973200@tffhastings.co.uk
SUMMARY:Karaoke Night!
DESCRIPTION:
URL:https://tffhastings.co.uk/event/karaoke-night-3/2030-09-06/
LOCATION:The Forbidden Fruit\, 22 Grand Parade\, St. Leonards-on-Sea\, East Sussex\, TN37 6DN\, United Kingdom
CATEGORIES:Karaoke
ORGANIZER;CN="The Forbidden Fruit":MAILTO:contact@tffhastings.co.uk
END:VEVENT
BEGIN:VEVENT
DTSTART;TZID=Europe/London:20300913T200000
DTEND;TZID=Europe/London:20300914T010000
DTSTAMP:20260425T221820
CREATED:20260102T151936Z
LAST-MODIFIED:20260418T092451Z
UID:10001947-1915560000-1915578000@tffhastings.co.uk
SUMMARY:Karaoke Night!
DESCRIPTION:
URL:https://tffhastings.co.uk/event/karaoke-night-3/2030-09-13/
LOCATION:The Forbidden Fruit\, 22 Grand Parade\, St. Leonards-on-Sea\, East Sussex\, TN37 6DN\, United Kingdom
CATEGORIES:Karaoke
ORGANIZER;CN="The Forbidden Fruit":MAILTO:contact@tffhastings.co.uk
END:VEVENT
BEGIN:VEVENT
DTSTART;TZID=Europe/London:20300920T200000
DTEND;TZID=Europe/London:20300921T010000
DTSTAMP:20260425T221820
CREATED:20260102T151936Z
LAST-MODIFIED:20260418T092451Z
UID:10001948-1916164800-1916182800@tffhastings.co.uk
SUMMARY:Karaoke Night!
DESCRIPTION:
URL:https://tffhastings.co.uk/event/karaoke-night-3/2030-09-20/
LOCATION:The Forbidden Fruit\, 22 Grand Parade\, St. Leonards-on-Sea\, East Sussex\, TN37 6DN\, United Kingdom
CATEGORIES:Karaoke
ORGANIZER;CN="The Forbidden Fruit":MAILTO:contact@tffhastings.co.uk
END:VEVENT
BEGIN:VEVENT
DTSTART;TZID=Europe/London:20300927T200000
DTEND;TZID=Europe/London:20300928T010000
DTSTAMP:20260425T221820
CREATED:20260102T151936Z
LAST-MODIFIED:20260418T092451Z
UID:10001949-1916769600-1916787600@tffhastings.co.uk
SUMMARY:Karaoke Night!
DESCRIPTION:
URL:https://tffhastings.co.uk/event/karaoke-night-3/2030-09-27/
LOCATION:The Forbidden Fruit\, 22 Grand Parade\, St. Leonards-on-Sea\, East Sussex\, TN37 6DN\, United Kingdom
CATEGORIES:Karaoke
ORGANIZER;CN="The Forbidden Fruit":MAILTO:contact@tffhastings.co.uk
END:VEVENT
BEGIN:VEVENT
DTSTART;TZID=Europe/London:20301004T200000
DTEND;TZID=Europe/London:20301005T010000
DTSTAMP:20260425T221820
CREATED:20260102T151936Z
LAST-MODIFIED:20260418T092451Z
UID:10001950-1917374400-1917392400@tffhastings.co.uk
SUMMARY:Karaoke Night!
DESCRIPTION:
URL:https://tffhastings.co.uk/event/karaoke-night-3/2030-10-04/
LOCATION:The Forbidden Fruit\, 22 Grand Parade\, St. Leonards-on-Sea\, East Sussex\, TN37 6DN\, United Kingdom
CATEGORIES:Karaoke
ORGANIZER;CN="The Forbidden Fruit":MAILTO:contact@tffhastings.co.uk
END:VEVENT
BEGIN:VEVENT
DTSTART;TZID=Europe/London:20301011T200000
DTEND;TZID=Europe/London:20301012T010000
DTSTAMP:20260425T221820
CREATED:20260102T151936Z
LAST-MODIFIED:20260418T092451Z
UID:10001951-1917979200-1917997200@tffhastings.co.uk
SUMMARY:Karaoke Night!
DESCRIPTION:
URL:https://tffhastings.co.uk/event/karaoke-night-3/2030-10-11/
LOCATION:The Forbidden Fruit\, 22 Grand Parade\, St. Leonards-on-Sea\, East Sussex\, TN37 6DN\, United Kingdom
CATEGORIES:Karaoke
ORGANIZER;CN="The Forbidden Fruit":MAILTO:contact@tffhastings.co.uk
END:VEVENT
BEGIN:VEVENT
DTSTART;TZID=Europe/London:20301018T200000
DTEND;TZID=Europe/London:20301019T010000
DTSTAMP:20260425T221820
CREATED:20260102T151936Z
LAST-MODIFIED:20260418T092451Z
UID:10001952-1918584000-1918602000@tffhastings.co.uk
SUMMARY:Karaoke Night!
DESCRIPTION:
URL:https://tffhastings.co.uk/event/karaoke-night-3/2030-10-18/
LOCATION:The Forbidden Fruit\, 22 Grand Parade\, St. Leonards-on-Sea\, East Sussex\, TN37 6DN\, United Kingdom
CATEGORIES:Karaoke
ORGANIZER;CN="The Forbidden Fruit":MAILTO:contact@tffhastings.co.uk
END:VEVENT
BEGIN:VEVENT
DTSTART;TZID=Europe/London:20301025T200000
DTEND;TZID=Europe/London:20301026T010000
DTSTAMP:20260425T221820
CREATED:20260102T151936Z
LAST-MODIFIED:20260418T092451Z
UID:10001953-1919188800-1919206800@tffhastings.co.uk
SUMMARY:Karaoke Night!
DESCRIPTION:
URL:https://tffhastings.co.uk/event/karaoke-night-3/2030-10-25/
LOCATION:The Forbidden Fruit\, 22 Grand Parade\, St. Leonards-on-Sea\, East Sussex\, TN37 6DN\, United Kingdom
CATEGORIES:Karaoke
ORGANIZER;CN="The Forbidden Fruit":MAILTO:contact@tffhastings.co.uk
END:VEVENT
END:VCALENDAR