BEGIN:VCALENDAR
VERSION:2.0
PRODID:-//TFFHastings - ECPv6.15.18//NONSGML v1.0//EN
CALSCALE:GREGORIAN
METHOD:PUBLISH
X-WR-CALNAME:TFFHastings
X-ORIGINAL-URL:https://tffhastings.co.uk
X-WR-CALDESC:Events for TFFHastings
REFRESH-INTERVAL;VALUE=DURATION:PT1H
X-Robots-Tag:noindex
X-PUBLISHED-TTL:PT1H
BEGIN:VTIMEZONE
TZID:Europe/London
BEGIN:DAYLIGHT
TZOFFSETFROM:+0000
TZOFFSETTO:+0100
TZNAME:BST
DTSTART:20250330T010000
END:DAYLIGHT
BEGIN:STANDARD
TZOFFSETFROM:+0100
TZOFFSETTO:+0000
TZNAME:GMT
DTSTART:20251026T010000
END:STANDARD
BEGIN:DAYLIGHT
TZOFFSETFROM:+0000
TZOFFSETTO:+0100
TZNAME:BST
DTSTART:20260329T010000
END:DAYLIGHT
BEGIN:STANDARD
TZOFFSETFROM:+0100
TZOFFSETTO:+0000
TZNAME:GMT
DTSTART:20261025T010000
END:STANDARD
BEGIN:DAYLIGHT
TZOFFSETFROM:+0000
TZOFFSETTO:+0100
TZNAME:BST
DTSTART:20270328T010000
END:DAYLIGHT
BEGIN:STANDARD
TZOFFSETFROM:+0100
TZOFFSETTO:+0000
TZNAME:GMT
DTSTART:20271031T010000
END:STANDARD
BEGIN:DAYLIGHT
TZOFFSETFROM:+0000
TZOFFSETTO:+0100
TZNAME:BST
DTSTART:20280326T010000
END:DAYLIGHT
BEGIN:STANDARD
TZOFFSETFROM:+0100
TZOFFSETTO:+0000
TZNAME:GMT
DTSTART:20281029T010000
END:STANDARD
END:VTIMEZONE
BEGIN:VEVENT
DTSTART;TZID=Europe/London:20261106T200000
DTEND;TZID=Europe/London:20261107T010000
DTSTAMP:20260423T130636
CREATED:20260102T151936Z
LAST-MODIFIED:20260418T092451Z
UID:10001746-1793995200-1794013200@tffhastings.co.uk
SUMMARY:Karaoke Night!
DESCRIPTION:
URL:https://tffhastings.co.uk/event/karaoke-night-3/2026-11-06/
LOCATION:The Forbidden Fruit\, 22 Grand Parade\, St. Leonards-on-Sea\, East Sussex\, TN37 6DN\, United Kingdom
CATEGORIES:Karaoke
ORGANIZER;CN="The Forbidden Fruit":MAILTO:contact@tffhastings.co.uk
END:VEVENT
BEGIN:VEVENT
DTSTART;TZID=Europe/London:20261108T123000
DTEND;TZID=Europe/London:20261108T160000
DTSTAMP:20260423T130636
CREATED:20260102T153506Z
LAST-MODIFIED:20260102T153506Z
UID:10002012-1794141000-1794153600@tffhastings.co.uk
SUMMARY:Sunday Lunch
DESCRIPTION:
URL:https://tffhastings.co.uk/event/sunday-lunch-2/2026-11-08/
LOCATION:The Forbidden Fruit\, 22 Grand Parade\, St. Leonards-on-Sea\, East Sussex\, TN37 6DN\, United Kingdom
CATEGORIES:Sunday Lunch
ORGANIZER;CN="The Forbidden Fruit":MAILTO:contact@tffhastings.co.uk
END:VEVENT
BEGIN:VEVENT
DTSTART;TZID=Europe/London:20261111T200000
DTEND;TZID=Europe/London:20261111T220000
DTSTAMP:20260423T130636
CREATED:20250628T104140Z
LAST-MODIFIED:20250628T104140Z
UID:10000104-1794427200-1794434400@tffhastings.co.uk
SUMMARY:Quiz Night
DESCRIPTION:
URL:https://tffhastings.co.uk/event/quiz-night/2026-11-11/
LOCATION:The Forbidden Fruit\, 22 Grand Parade\, St. Leonards-on-Sea\, East Sussex\, TN37 6DN\, United Kingdom
CATEGORIES:Quiz
ORGANIZER;CN="The Forbidden Fruit":MAILTO:contact@tffhastings.co.uk
END:VEVENT
BEGIN:VEVENT
DTSTART;TZID=Europe/London:20261113T200000
DTEND;TZID=Europe/London:20261114T010000
DTSTAMP:20260423T130636
CREATED:20260102T151936Z
LAST-MODIFIED:20260418T092451Z
UID:10001747-1794600000-1794618000@tffhastings.co.uk
SUMMARY:Karaoke Night!
DESCRIPTION:
URL:https://tffhastings.co.uk/event/karaoke-night-3/2026-11-13/
LOCATION:The Forbidden Fruit\, 22 Grand Parade\, St. Leonards-on-Sea\, East Sussex\, TN37 6DN\, United Kingdom
CATEGORIES:Karaoke
ORGANIZER;CN="The Forbidden Fruit":MAILTO:contact@tffhastings.co.uk
END:VEVENT
BEGIN:VEVENT
DTSTART;TZID=Europe/London:20261115T123000
DTEND;TZID=Europe/London:20261115T160000
DTSTAMP:20260423T130636
CREATED:20260102T153506Z
LAST-MODIFIED:20260102T153506Z
UID:10002013-1794745800-1794758400@tffhastings.co.uk
SUMMARY:Sunday Lunch
DESCRIPTION:
URL:https://tffhastings.co.uk/event/sunday-lunch-2/2026-11-15/
LOCATION:The Forbidden Fruit\, 22 Grand Parade\, St. Leonards-on-Sea\, East Sussex\, TN37 6DN\, United Kingdom
CATEGORIES:Sunday Lunch
ORGANIZER;CN="The Forbidden Fruit":MAILTO:contact@tffhastings.co.uk
END:VEVENT
BEGIN:VEVENT
DTSTART;TZID=Europe/London:20261118T200000
DTEND;TZID=Europe/London:20261118T220000
DTSTAMP:20260423T130636
CREATED:20250628T104140Z
LAST-MODIFIED:20250628T104140Z
UID:10000105-1795032000-1795039200@tffhastings.co.uk
SUMMARY:Quiz Night
DESCRIPTION:
URL:https://tffhastings.co.uk/event/quiz-night/2026-11-18/
LOCATION:The Forbidden Fruit\, 22 Grand Parade\, St. Leonards-on-Sea\, East Sussex\, TN37 6DN\, United Kingdom
CATEGORIES:Quiz
ORGANIZER;CN="The Forbidden Fruit":MAILTO:contact@tffhastings.co.uk
END:VEVENT
BEGIN:VEVENT
DTSTART;TZID=Europe/London:20261120T200000
DTEND;TZID=Europe/London:20261121T010000
DTSTAMP:20260423T130636
CREATED:20260102T151936Z
LAST-MODIFIED:20260418T092451Z
UID:10001748-1795204800-1795222800@tffhastings.co.uk
SUMMARY:Karaoke Night!
DESCRIPTION:
URL:https://tffhastings.co.uk/event/karaoke-night-3/2026-11-20/
LOCATION:The Forbidden Fruit\, 22 Grand Parade\, St. Leonards-on-Sea\, East Sussex\, TN37 6DN\, United Kingdom
CATEGORIES:Karaoke
ORGANIZER;CN="The Forbidden Fruit":MAILTO:contact@tffhastings.co.uk
END:VEVENT
BEGIN:VEVENT
DTSTART;TZID=Europe/London:20261122T123000
DTEND;TZID=Europe/London:20261122T160000
DTSTAMP:20260423T130636
CREATED:20260102T153506Z
LAST-MODIFIED:20260102T153506Z
UID:10002014-1795350600-1795363200@tffhastings.co.uk
SUMMARY:Sunday Lunch
DESCRIPTION:
URL:https://tffhastings.co.uk/event/sunday-lunch-2/2026-11-22/
LOCATION:The Forbidden Fruit\, 22 Grand Parade\, St. Leonards-on-Sea\, East Sussex\, TN37 6DN\, United Kingdom
CATEGORIES:Sunday Lunch
ORGANIZER;CN="The Forbidden Fruit":MAILTO:contact@tffhastings.co.uk
END:VEVENT
BEGIN:VEVENT
DTSTART;TZID=Europe/London:20261125T200000
DTEND;TZID=Europe/London:20261125T220000
DTSTAMP:20260423T130636
CREATED:20250628T104140Z
LAST-MODIFIED:20250628T104140Z
UID:10000106-1795636800-1795644000@tffhastings.co.uk
SUMMARY:Quiz Night
DESCRIPTION:
URL:https://tffhastings.co.uk/event/quiz-night/2026-11-25/
LOCATION:The Forbidden Fruit\, 22 Grand Parade\, St. Leonards-on-Sea\, East Sussex\, TN37 6DN\, United Kingdom
CATEGORIES:Quiz
ORGANIZER;CN="The Forbidden Fruit":MAILTO:contact@tffhastings.co.uk
END:VEVENT
BEGIN:VEVENT
DTSTART;TZID=Europe/London:20261127T200000
DTEND;TZID=Europe/London:20261128T010000
DTSTAMP:20260423T130636
CREATED:20260102T151936Z
LAST-MODIFIED:20260418T092451Z
UID:10001749-1795809600-1795827600@tffhastings.co.uk
SUMMARY:Karaoke Night!
DESCRIPTION:
URL:https://tffhastings.co.uk/event/karaoke-night-3/2026-11-27/
LOCATION:The Forbidden Fruit\, 22 Grand Parade\, St. Leonards-on-Sea\, East Sussex\, TN37 6DN\, United Kingdom
CATEGORIES:Karaoke
ORGANIZER;CN="The Forbidden Fruit":MAILTO:contact@tffhastings.co.uk
END:VEVENT
BEGIN:VEVENT
DTSTART;TZID=Europe/London:20261129T123000
DTEND;TZID=Europe/London:20261129T160000
DTSTAMP:20260423T130636
CREATED:20260102T153506Z
LAST-MODIFIED:20260102T153506Z
UID:10002015-1795955400-1795968000@tffhastings.co.uk
SUMMARY:Sunday Lunch
DESCRIPTION:
URL:https://tffhastings.co.uk/event/sunday-lunch-2/2026-11-29/
LOCATION:The Forbidden Fruit\, 22 Grand Parade\, St. Leonards-on-Sea\, East Sussex\, TN37 6DN\, United Kingdom
CATEGORIES:Sunday Lunch
ORGANIZER;CN="The Forbidden Fruit":MAILTO:contact@tffhastings.co.uk
END:VEVENT
BEGIN:VEVENT
DTSTART;TZID=Europe/London:20261202T200000
DTEND;TZID=Europe/London:20261202T220000
DTSTAMP:20260423T130636
CREATED:20250628T104140Z
LAST-MODIFIED:20250628T104140Z
UID:10000107-1796241600-1796248800@tffhastings.co.uk
SUMMARY:Quiz Night
DESCRIPTION:
URL:https://tffhastings.co.uk/event/quiz-night/2026-12-02/
LOCATION:The Forbidden Fruit\, 22 Grand Parade\, St. Leonards-on-Sea\, East Sussex\, TN37 6DN\, United Kingdom
CATEGORIES:Quiz
ORGANIZER;CN="The Forbidden Fruit":MAILTO:contact@tffhastings.co.uk
END:VEVENT
BEGIN:VEVENT
DTSTART;TZID=Europe/London:20261204T200000
DTEND;TZID=Europe/London:20261205T010000
DTSTAMP:20260423T130636
CREATED:20260102T151936Z
LAST-MODIFIED:20260418T092451Z
UID:10001750-1796414400-1796432400@tffhastings.co.uk
SUMMARY:Karaoke Night!
DESCRIPTION:
URL:https://tffhastings.co.uk/event/karaoke-night-3/2026-12-04/
LOCATION:The Forbidden Fruit\, 22 Grand Parade\, St. Leonards-on-Sea\, East Sussex\, TN37 6DN\, United Kingdom
CATEGORIES:Karaoke
ORGANIZER;CN="The Forbidden Fruit":MAILTO:contact@tffhastings.co.uk
END:VEVENT
BEGIN:VEVENT
DTSTART;TZID=Europe/London:20261206T123000
DTEND;TZID=Europe/London:20261206T160000
DTSTAMP:20260423T130636
CREATED:20260102T153506Z
LAST-MODIFIED:20260102T153506Z
UID:10002016-1796560200-1796572800@tffhastings.co.uk
SUMMARY:Sunday Lunch
DESCRIPTION:
URL:https://tffhastings.co.uk/event/sunday-lunch-2/2026-12-06/
LOCATION:The Forbidden Fruit\, 22 Grand Parade\, St. Leonards-on-Sea\, East Sussex\, TN37 6DN\, United Kingdom
CATEGORIES:Sunday Lunch
ORGANIZER;CN="The Forbidden Fruit":MAILTO:contact@tffhastings.co.uk
END:VEVENT
BEGIN:VEVENT
DTSTART;TZID=Europe/London:20261209T200000
DTEND;TZID=Europe/London:20261209T220000
DTSTAMP:20260423T130636
CREATED:20250628T104140Z
LAST-MODIFIED:20250628T104140Z
UID:10000108-1796846400-1796853600@tffhastings.co.uk
SUMMARY:Quiz Night
DESCRIPTION:
URL:https://tffhastings.co.uk/event/quiz-night/2026-12-09/
LOCATION:The Forbidden Fruit\, 22 Grand Parade\, St. Leonards-on-Sea\, East Sussex\, TN37 6DN\, United Kingdom
CATEGORIES:Quiz
ORGANIZER;CN="The Forbidden Fruit":MAILTO:contact@tffhastings.co.uk
END:VEVENT
BEGIN:VEVENT
DTSTART;TZID=Europe/London:20261211T200000
DTEND;TZID=Europe/London:20261212T010000
DTSTAMP:20260423T130636
CREATED:20260102T151936Z
LAST-MODIFIED:20260418T092451Z
UID:10001751-1797019200-1797037200@tffhastings.co.uk
SUMMARY:Karaoke Night!
DESCRIPTION:
URL:https://tffhastings.co.uk/event/karaoke-night-3/2026-12-11/
LOCATION:The Forbidden Fruit\, 22 Grand Parade\, St. Leonards-on-Sea\, East Sussex\, TN37 6DN\, United Kingdom
CATEGORIES:Karaoke
ORGANIZER;CN="The Forbidden Fruit":MAILTO:contact@tffhastings.co.uk
END:VEVENT
BEGIN:VEVENT
DTSTART;TZID=Europe/London:20261213T123000
DTEND;TZID=Europe/London:20261213T160000
DTSTAMP:20260423T130636
CREATED:20260102T153506Z
LAST-MODIFIED:20260102T153506Z
UID:10002017-1797165000-1797177600@tffhastings.co.uk
SUMMARY:Sunday Lunch
DESCRIPTION:
URL:https://tffhastings.co.uk/event/sunday-lunch-2/2026-12-13/
LOCATION:The Forbidden Fruit\, 22 Grand Parade\, St. Leonards-on-Sea\, East Sussex\, TN37 6DN\, United Kingdom
CATEGORIES:Sunday Lunch
ORGANIZER;CN="The Forbidden Fruit":MAILTO:contact@tffhastings.co.uk
END:VEVENT
BEGIN:VEVENT
DTSTART;TZID=Europe/London:20261216T200000
DTEND;TZID=Europe/London:20261216T220000
DTSTAMP:20260423T130636
CREATED:20250628T104140Z
LAST-MODIFIED:20250628T104140Z
UID:10000109-1797451200-1797458400@tffhastings.co.uk
SUMMARY:Quiz Night
DESCRIPTION:
URL:https://tffhastings.co.uk/event/quiz-night/2026-12-16/
LOCATION:The Forbidden Fruit\, 22 Grand Parade\, St. Leonards-on-Sea\, East Sussex\, TN37 6DN\, United Kingdom
CATEGORIES:Quiz
ORGANIZER;CN="The Forbidden Fruit":MAILTO:contact@tffhastings.co.uk
END:VEVENT
BEGIN:VEVENT
DTSTART;TZID=Europe/London:20261218T200000
DTEND;TZID=Europe/London:20261219T010000
DTSTAMP:20260423T130636
CREATED:20260102T151936Z
LAST-MODIFIED:20260418T092451Z
UID:10001752-1797624000-1797642000@tffhastings.co.uk
SUMMARY:Karaoke Night!
DESCRIPTION:
URL:https://tffhastings.co.uk/event/karaoke-night-3/2026-12-18/
LOCATION:The Forbidden Fruit\, 22 Grand Parade\, St. Leonards-on-Sea\, East Sussex\, TN37 6DN\, United Kingdom
CATEGORIES:Karaoke
ORGANIZER;CN="The Forbidden Fruit":MAILTO:contact@tffhastings.co.uk
END:VEVENT
BEGIN:VEVENT
DTSTART;TZID=Europe/London:20261220T123000
DTEND;TZID=Europe/London:20261220T160000
DTSTAMP:20260423T130637
CREATED:20260102T153506Z
LAST-MODIFIED:20260102T153506Z
UID:10002018-1797769800-1797782400@tffhastings.co.uk
SUMMARY:Sunday Lunch
DESCRIPTION:
URL:https://tffhastings.co.uk/event/sunday-lunch-2/2026-12-20/
LOCATION:The Forbidden Fruit\, 22 Grand Parade\, St. Leonards-on-Sea\, East Sussex\, TN37 6DN\, United Kingdom
CATEGORIES:Sunday Lunch
ORGANIZER;CN="The Forbidden Fruit":MAILTO:contact@tffhastings.co.uk
END:VEVENT
BEGIN:VEVENT
DTSTART;TZID=Europe/London:20261223T200000
DTEND;TZID=Europe/London:20261223T220000
DTSTAMP:20260423T130637
CREATED:20250628T104140Z
LAST-MODIFIED:20250628T104140Z
UID:10000110-1798056000-1798063200@tffhastings.co.uk
SUMMARY:Quiz Night
DESCRIPTION:
URL:https://tffhastings.co.uk/event/quiz-night/2026-12-23/
LOCATION:The Forbidden Fruit\, 22 Grand Parade\, St. Leonards-on-Sea\, East Sussex\, TN37 6DN\, United Kingdom
CATEGORIES:Quiz
ORGANIZER;CN="The Forbidden Fruit":MAILTO:contact@tffhastings.co.uk
END:VEVENT
BEGIN:VEVENT
DTSTART;TZID=Europe/London:20261225T200000
DTEND;TZID=Europe/London:20261226T010000
DTSTAMP:20260423T130637
CREATED:20260102T151936Z
LAST-MODIFIED:20260418T092451Z
UID:10001753-1798228800-1798246800@tffhastings.co.uk
SUMMARY:Karaoke Night!
DESCRIPTION:
URL:https://tffhastings.co.uk/event/karaoke-night-3/2026-12-25/
LOCATION:The Forbidden Fruit\, 22 Grand Parade\, St. Leonards-on-Sea\, East Sussex\, TN37 6DN\, United Kingdom
CATEGORIES:Karaoke
ORGANIZER;CN="The Forbidden Fruit":MAILTO:contact@tffhastings.co.uk
END:VEVENT
BEGIN:VEVENT
DTSTART;TZID=Europe/London:20261227T123000
DTEND;TZID=Europe/London:20261227T160000
DTSTAMP:20260423T130637
CREATED:20260102T153506Z
LAST-MODIFIED:20260102T153506Z
UID:10002019-1798374600-1798387200@tffhastings.co.uk
SUMMARY:Sunday Lunch
DESCRIPTION:
URL:https://tffhastings.co.uk/event/sunday-lunch-2/2026-12-27/
LOCATION:The Forbidden Fruit\, 22 Grand Parade\, St. Leonards-on-Sea\, East Sussex\, TN37 6DN\, United Kingdom
CATEGORIES:Sunday Lunch
ORGANIZER;CN="The Forbidden Fruit":MAILTO:contact@tffhastings.co.uk
END:VEVENT
BEGIN:VEVENT
DTSTART;TZID=Europe/London:20261230T200000
DTEND;TZID=Europe/London:20261230T220000
DTSTAMP:20260423T130637
CREATED:20250628T104140Z
LAST-MODIFIED:20250628T104140Z
UID:10000111-1798660800-1798668000@tffhastings.co.uk
SUMMARY:Quiz Night
DESCRIPTION:
URL:https://tffhastings.co.uk/event/quiz-night/2026-12-30/
LOCATION:The Forbidden Fruit\, 22 Grand Parade\, St. Leonards-on-Sea\, East Sussex\, TN37 6DN\, United Kingdom
CATEGORIES:Quiz
ORGANIZER;CN="The Forbidden Fruit":MAILTO:contact@tffhastings.co.uk
END:VEVENT
BEGIN:VEVENT
DTSTART;TZID=Europe/London:20270101T200000
DTEND;TZID=Europe/London:20270102T010000
DTSTAMP:20260423T130637
CREATED:20260102T151936Z
LAST-MODIFIED:20260418T092451Z
UID:10001754-1798833600-1798851600@tffhastings.co.uk
SUMMARY:Karaoke Night!
DESCRIPTION:
URL:https://tffhastings.co.uk/event/karaoke-night-3/2027-01-01/
LOCATION:The Forbidden Fruit\, 22 Grand Parade\, St. Leonards-on-Sea\, East Sussex\, TN37 6DN\, United Kingdom
CATEGORIES:Karaoke
ORGANIZER;CN="The Forbidden Fruit":MAILTO:contact@tffhastings.co.uk
END:VEVENT
BEGIN:VEVENT
DTSTART;TZID=Europe/London:20270103T123000
DTEND;TZID=Europe/London:20270103T160000
DTSTAMP:20260423T130637
CREATED:20260102T153506Z
LAST-MODIFIED:20260102T153506Z
UID:10002020-1798979400-1798992000@tffhastings.co.uk
SUMMARY:Sunday Lunch
DESCRIPTION:
URL:https://tffhastings.co.uk/event/sunday-lunch-2/2027-01-03/
LOCATION:The Forbidden Fruit\, 22 Grand Parade\, St. Leonards-on-Sea\, East Sussex\, TN37 6DN\, United Kingdom
CATEGORIES:Sunday Lunch
ORGANIZER;CN="The Forbidden Fruit":MAILTO:contact@tffhastings.co.uk
END:VEVENT
BEGIN:VEVENT
DTSTART;TZID=Europe/London:20270108T200000
DTEND;TZID=Europe/London:20270109T010000
DTSTAMP:20260423T130637
CREATED:20260102T151936Z
LAST-MODIFIED:20260418T092451Z
UID:10001755-1799438400-1799456400@tffhastings.co.uk
SUMMARY:Karaoke Night!
DESCRIPTION:
URL:https://tffhastings.co.uk/event/karaoke-night-3/2027-01-08/
LOCATION:The Forbidden Fruit\, 22 Grand Parade\, St. Leonards-on-Sea\, East Sussex\, TN37 6DN\, United Kingdom
CATEGORIES:Karaoke
ORGANIZER;CN="The Forbidden Fruit":MAILTO:contact@tffhastings.co.uk
END:VEVENT
BEGIN:VEVENT
DTSTART;TZID=Europe/London:20270115T200000
DTEND;TZID=Europe/London:20270116T010000
DTSTAMP:20260423T130637
CREATED:20260102T151936Z
LAST-MODIFIED:20260418T092451Z
UID:10001756-1800043200-1800061200@tffhastings.co.uk
SUMMARY:Karaoke Night!
DESCRIPTION:
URL:https://tffhastings.co.uk/event/karaoke-night-3/2027-01-15/
LOCATION:The Forbidden Fruit\, 22 Grand Parade\, St. Leonards-on-Sea\, East Sussex\, TN37 6DN\, United Kingdom
CATEGORIES:Karaoke
ORGANIZER;CN="The Forbidden Fruit":MAILTO:contact@tffhastings.co.uk
END:VEVENT
BEGIN:VEVENT
DTSTART;TZID=Europe/London:20270122T200000
DTEND;TZID=Europe/London:20270123T010000
DTSTAMP:20260423T130637
CREATED:20260102T151936Z
LAST-MODIFIED:20260418T092451Z
UID:10001757-1800648000-1800666000@tffhastings.co.uk
SUMMARY:Karaoke Night!
DESCRIPTION:
URL:https://tffhastings.co.uk/event/karaoke-night-3/2027-01-22/
LOCATION:The Forbidden Fruit\, 22 Grand Parade\, St. Leonards-on-Sea\, East Sussex\, TN37 6DN\, United Kingdom
CATEGORIES:Karaoke
ORGANIZER;CN="The Forbidden Fruit":MAILTO:contact@tffhastings.co.uk
END:VEVENT
BEGIN:VEVENT
DTSTART;TZID=Europe/London:20270129T200000
DTEND;TZID=Europe/London:20270130T010000
DTSTAMP:20260423T130637
CREATED:20260102T151936Z
LAST-MODIFIED:20260418T092451Z
UID:10001758-1801252800-1801270800@tffhastings.co.uk
SUMMARY:Karaoke Night!
DESCRIPTION:
URL:https://tffhastings.co.uk/event/karaoke-night-3/2027-01-29/
LOCATION:The Forbidden Fruit\, 22 Grand Parade\, St. Leonards-on-Sea\, East Sussex\, TN37 6DN\, United Kingdom
CATEGORIES:Karaoke
ORGANIZER;CN="The Forbidden Fruit":MAILTO:contact@tffhastings.co.uk
END:VEVENT
END:VCALENDAR