BEGIN:VCALENDAR
VERSION:2.0
PRODID:-//TFFHastings - ECPv6.15.18//NONSGML v1.0//EN
CALSCALE:GREGORIAN
METHOD:PUBLISH
X-WR-CALNAME:TFFHastings
X-ORIGINAL-URL:https://tffhastings.co.uk
X-WR-CALDESC:Events for TFFHastings
REFRESH-INTERVAL;VALUE=DURATION:PT1H
X-Robots-Tag:noindex
X-PUBLISHED-TTL:PT1H
BEGIN:VTIMEZONE
TZID:Europe/London
BEGIN:DAYLIGHT
TZOFFSETFROM:+0000
TZOFFSETTO:+0100
TZNAME:BST
DTSTART:20250330T010000
END:DAYLIGHT
BEGIN:STANDARD
TZOFFSETFROM:+0100
TZOFFSETTO:+0000
TZNAME:GMT
DTSTART:20251026T010000
END:STANDARD
BEGIN:DAYLIGHT
TZOFFSETFROM:+0000
TZOFFSETTO:+0100
TZNAME:BST
DTSTART:20260329T010000
END:DAYLIGHT
BEGIN:STANDARD
TZOFFSETFROM:+0100
TZOFFSETTO:+0000
TZNAME:GMT
DTSTART:20261025T010000
END:STANDARD
BEGIN:DAYLIGHT
TZOFFSETFROM:+0000
TZOFFSETTO:+0100
TZNAME:BST
DTSTART:20270328T010000
END:DAYLIGHT
BEGIN:STANDARD
TZOFFSETFROM:+0100
TZOFFSETTO:+0000
TZNAME:GMT
DTSTART:20271031T010000
END:STANDARD
END:VTIMEZONE
BEGIN:VEVENT
DTSTART;TZID=Europe/London:20260426T123000
DTEND;TZID=Europe/London:20260426T160000
DTSTAMP:20260419T184619
CREATED:20260102T153506Z
LAST-MODIFIED:20260102T153506Z
UID:10001984-1777206600-1777219200@tffhastings.co.uk
SUMMARY:Sunday Lunch
DESCRIPTION:
URL:https://tffhastings.co.uk/event/sunday-lunch-2/2026-04-26/
LOCATION:The Forbidden Fruit\, 22 Grand Parade\, St. Leonards-on-Sea\, East Sussex\, TN37 6DN\, United Kingdom
CATEGORIES:Sunday Lunch
ORGANIZER;CN="The Forbidden Fruit":MAILTO:contact@tffhastings.co.uk
END:VEVENT
BEGIN:VEVENT
DTSTART;TZID=Europe/London:20260503T123000
DTEND;TZID=Europe/London:20260503T160000
DTSTAMP:20260419T184619
CREATED:20260102T153506Z
LAST-MODIFIED:20260102T153506Z
UID:10001985-1777811400-1777824000@tffhastings.co.uk
SUMMARY:Sunday Lunch
DESCRIPTION:
URL:https://tffhastings.co.uk/event/sunday-lunch-2/2026-05-03/
LOCATION:The Forbidden Fruit\, 22 Grand Parade\, St. Leonards-on-Sea\, East Sussex\, TN37 6DN\, United Kingdom
CATEGORIES:Sunday Lunch
ORGANIZER;CN="The Forbidden Fruit":MAILTO:contact@tffhastings.co.uk
END:VEVENT
BEGIN:VEVENT
DTSTART;TZID=Europe/London:20260510T123000
DTEND;TZID=Europe/London:20260510T160000
DTSTAMP:20260419T184619
CREATED:20260102T153506Z
LAST-MODIFIED:20260102T153506Z
UID:10001986-1778416200-1778428800@tffhastings.co.uk
SUMMARY:Sunday Lunch
DESCRIPTION:
URL:https://tffhastings.co.uk/event/sunday-lunch-2/2026-05-10/
LOCATION:The Forbidden Fruit\, 22 Grand Parade\, St. Leonards-on-Sea\, East Sussex\, TN37 6DN\, United Kingdom
CATEGORIES:Sunday Lunch
ORGANIZER;CN="The Forbidden Fruit":MAILTO:contact@tffhastings.co.uk
END:VEVENT
BEGIN:VEVENT
DTSTART;TZID=Europe/London:20260517T123000
DTEND;TZID=Europe/London:20260517T160000
DTSTAMP:20260419T184619
CREATED:20260102T153506Z
LAST-MODIFIED:20260102T153506Z
UID:10001987-1779021000-1779033600@tffhastings.co.uk
SUMMARY:Sunday Lunch
DESCRIPTION:
URL:https://tffhastings.co.uk/event/sunday-lunch-2/2026-05-17/
LOCATION:The Forbidden Fruit\, 22 Grand Parade\, St. Leonards-on-Sea\, East Sussex\, TN37 6DN\, United Kingdom
CATEGORIES:Sunday Lunch
ORGANIZER;CN="The Forbidden Fruit":MAILTO:contact@tffhastings.co.uk
END:VEVENT
BEGIN:VEVENT
DTSTART;TZID=Europe/London:20260524T123000
DTEND;TZID=Europe/London:20260524T160000
DTSTAMP:20260419T184619
CREATED:20260102T153506Z
LAST-MODIFIED:20260102T153506Z
UID:10001988-1779625800-1779638400@tffhastings.co.uk
SUMMARY:Sunday Lunch
DESCRIPTION:
URL:https://tffhastings.co.uk/event/sunday-lunch-2/2026-05-24/
LOCATION:The Forbidden Fruit\, 22 Grand Parade\, St. Leonards-on-Sea\, East Sussex\, TN37 6DN\, United Kingdom
CATEGORIES:Sunday Lunch
ORGANIZER;CN="The Forbidden Fruit":MAILTO:contact@tffhastings.co.uk
END:VEVENT
BEGIN:VEVENT
DTSTART;TZID=Europe/London:20260531T123000
DTEND;TZID=Europe/London:20260531T160000
DTSTAMP:20260419T184619
CREATED:20260102T153506Z
LAST-MODIFIED:20260102T153506Z
UID:10001989-1780230600-1780243200@tffhastings.co.uk
SUMMARY:Sunday Lunch
DESCRIPTION:
URL:https://tffhastings.co.uk/event/sunday-lunch-2/2026-05-31/
LOCATION:The Forbidden Fruit\, 22 Grand Parade\, St. Leonards-on-Sea\, East Sussex\, TN37 6DN\, United Kingdom
CATEGORIES:Sunday Lunch
ORGANIZER;CN="The Forbidden Fruit":MAILTO:contact@tffhastings.co.uk
END:VEVENT
BEGIN:VEVENT
DTSTART;TZID=Europe/London:20260607T123000
DTEND;TZID=Europe/London:20260607T160000
DTSTAMP:20260419T184619
CREATED:20260102T153506Z
LAST-MODIFIED:20260102T153506Z
UID:10001990-1780835400-1780848000@tffhastings.co.uk
SUMMARY:Sunday Lunch
DESCRIPTION:
URL:https://tffhastings.co.uk/event/sunday-lunch-2/2026-06-07/
LOCATION:The Forbidden Fruit\, 22 Grand Parade\, St. Leonards-on-Sea\, East Sussex\, TN37 6DN\, United Kingdom
CATEGORIES:Sunday Lunch
ORGANIZER;CN="The Forbidden Fruit":MAILTO:contact@tffhastings.co.uk
END:VEVENT
BEGIN:VEVENT
DTSTART;TZID=Europe/London:20260614T123000
DTEND;TZID=Europe/London:20260614T160000
DTSTAMP:20260419T184619
CREATED:20260102T153506Z
LAST-MODIFIED:20260102T153506Z
UID:10001991-1781440200-1781452800@tffhastings.co.uk
SUMMARY:Sunday Lunch
DESCRIPTION:
URL:https://tffhastings.co.uk/event/sunday-lunch-2/2026-06-14/
LOCATION:The Forbidden Fruit\, 22 Grand Parade\, St. Leonards-on-Sea\, East Sussex\, TN37 6DN\, United Kingdom
CATEGORIES:Sunday Lunch
ORGANIZER;CN="The Forbidden Fruit":MAILTO:contact@tffhastings.co.uk
END:VEVENT
BEGIN:VEVENT
DTSTART;TZID=Europe/London:20260621T123000
DTEND;TZID=Europe/London:20260621T160000
DTSTAMP:20260419T184619
CREATED:20260102T153506Z
LAST-MODIFIED:20260102T153506Z
UID:10001992-1782045000-1782057600@tffhastings.co.uk
SUMMARY:Sunday Lunch
DESCRIPTION:
URL:https://tffhastings.co.uk/event/sunday-lunch-2/2026-06-21/
LOCATION:The Forbidden Fruit\, 22 Grand Parade\, St. Leonards-on-Sea\, East Sussex\, TN37 6DN\, United Kingdom
CATEGORIES:Sunday Lunch
ORGANIZER;CN="The Forbidden Fruit":MAILTO:contact@tffhastings.co.uk
END:VEVENT
BEGIN:VEVENT
DTSTART;TZID=Europe/London:20260628T123000
DTEND;TZID=Europe/London:20260628T160000
DTSTAMP:20260419T184619
CREATED:20260102T153506Z
LAST-MODIFIED:20260102T153506Z
UID:10001993-1782649800-1782662400@tffhastings.co.uk
SUMMARY:Sunday Lunch
DESCRIPTION:
URL:https://tffhastings.co.uk/event/sunday-lunch-2/2026-06-28/
LOCATION:The Forbidden Fruit\, 22 Grand Parade\, St. Leonards-on-Sea\, East Sussex\, TN37 6DN\, United Kingdom
CATEGORIES:Sunday Lunch
ORGANIZER;CN="The Forbidden Fruit":MAILTO:contact@tffhastings.co.uk
END:VEVENT
BEGIN:VEVENT
DTSTART;TZID=Europe/London:20260705T123000
DTEND;TZID=Europe/London:20260705T160000
DTSTAMP:20260419T184619
CREATED:20260102T153506Z
LAST-MODIFIED:20260102T153506Z
UID:10001994-1783254600-1783267200@tffhastings.co.uk
SUMMARY:Sunday Lunch
DESCRIPTION:
URL:https://tffhastings.co.uk/event/sunday-lunch-2/2026-07-05/
LOCATION:The Forbidden Fruit\, 22 Grand Parade\, St. Leonards-on-Sea\, East Sussex\, TN37 6DN\, United Kingdom
CATEGORIES:Sunday Lunch
ORGANIZER;CN="The Forbidden Fruit":MAILTO:contact@tffhastings.co.uk
END:VEVENT
BEGIN:VEVENT
DTSTART;TZID=Europe/London:20260712T123000
DTEND;TZID=Europe/London:20260712T160000
DTSTAMP:20260419T184619
CREATED:20260102T153506Z
LAST-MODIFIED:20260102T153506Z
UID:10001995-1783859400-1783872000@tffhastings.co.uk
SUMMARY:Sunday Lunch
DESCRIPTION:
URL:https://tffhastings.co.uk/event/sunday-lunch-2/2026-07-12/
LOCATION:The Forbidden Fruit\, 22 Grand Parade\, St. Leonards-on-Sea\, East Sussex\, TN37 6DN\, United Kingdom
CATEGORIES:Sunday Lunch
ORGANIZER;CN="The Forbidden Fruit":MAILTO:contact@tffhastings.co.uk
END:VEVENT
BEGIN:VEVENT
DTSTART;TZID=Europe/London:20260719T123000
DTEND;TZID=Europe/London:20260719T160000
DTSTAMP:20260419T184619
CREATED:20260102T153506Z
LAST-MODIFIED:20260102T153506Z
UID:10001996-1784464200-1784476800@tffhastings.co.uk
SUMMARY:Sunday Lunch
DESCRIPTION:
URL:https://tffhastings.co.uk/event/sunday-lunch-2/2026-07-19/
LOCATION:The Forbidden Fruit\, 22 Grand Parade\, St. Leonards-on-Sea\, East Sussex\, TN37 6DN\, United Kingdom
CATEGORIES:Sunday Lunch
ORGANIZER;CN="The Forbidden Fruit":MAILTO:contact@tffhastings.co.uk
END:VEVENT
BEGIN:VEVENT
DTSTART;TZID=Europe/London:20260726T123000
DTEND;TZID=Europe/London:20260726T160000
DTSTAMP:20260419T184619
CREATED:20260102T153506Z
LAST-MODIFIED:20260102T153506Z
UID:10001997-1785069000-1785081600@tffhastings.co.uk
SUMMARY:Sunday Lunch
DESCRIPTION:
URL:https://tffhastings.co.uk/event/sunday-lunch-2/2026-07-26/
LOCATION:The Forbidden Fruit\, 22 Grand Parade\, St. Leonards-on-Sea\, East Sussex\, TN37 6DN\, United Kingdom
CATEGORIES:Sunday Lunch
ORGANIZER;CN="The Forbidden Fruit":MAILTO:contact@tffhastings.co.uk
END:VEVENT
BEGIN:VEVENT
DTSTART;TZID=Europe/London:20260802T123000
DTEND;TZID=Europe/London:20260802T160000
DTSTAMP:20260419T184619
CREATED:20260102T153506Z
LAST-MODIFIED:20260102T153506Z
UID:10001998-1785673800-1785686400@tffhastings.co.uk
SUMMARY:Sunday Lunch
DESCRIPTION:
URL:https://tffhastings.co.uk/event/sunday-lunch-2/2026-08-02/
LOCATION:The Forbidden Fruit\, 22 Grand Parade\, St. Leonards-on-Sea\, East Sussex\, TN37 6DN\, United Kingdom
CATEGORIES:Sunday Lunch
ORGANIZER;CN="The Forbidden Fruit":MAILTO:contact@tffhastings.co.uk
END:VEVENT
BEGIN:VEVENT
DTSTART;TZID=Europe/London:20260809T123000
DTEND;TZID=Europe/London:20260809T160000
DTSTAMP:20260419T184619
CREATED:20260102T153506Z
LAST-MODIFIED:20260102T153506Z
UID:10001999-1786278600-1786291200@tffhastings.co.uk
SUMMARY:Sunday Lunch
DESCRIPTION:
URL:https://tffhastings.co.uk/event/sunday-lunch-2/2026-08-09/
LOCATION:The Forbidden Fruit\, 22 Grand Parade\, St. Leonards-on-Sea\, East Sussex\, TN37 6DN\, United Kingdom
CATEGORIES:Sunday Lunch
ORGANIZER;CN="The Forbidden Fruit":MAILTO:contact@tffhastings.co.uk
END:VEVENT
BEGIN:VEVENT
DTSTART;TZID=Europe/London:20260816T123000
DTEND;TZID=Europe/London:20260816T160000
DTSTAMP:20260419T184619
CREATED:20260102T153506Z
LAST-MODIFIED:20260102T153506Z
UID:10002000-1786883400-1786896000@tffhastings.co.uk
SUMMARY:Sunday Lunch
DESCRIPTION:
URL:https://tffhastings.co.uk/event/sunday-lunch-2/2026-08-16/
LOCATION:The Forbidden Fruit\, 22 Grand Parade\, St. Leonards-on-Sea\, East Sussex\, TN37 6DN\, United Kingdom
CATEGORIES:Sunday Lunch
ORGANIZER;CN="The Forbidden Fruit":MAILTO:contact@tffhastings.co.uk
END:VEVENT
BEGIN:VEVENT
DTSTART;TZID=Europe/London:20260823T123000
DTEND;TZID=Europe/London:20260823T160000
DTSTAMP:20260419T184619
CREATED:20260102T153506Z
LAST-MODIFIED:20260102T153506Z
UID:10002001-1787488200-1787500800@tffhastings.co.uk
SUMMARY:Sunday Lunch
DESCRIPTION:
URL:https://tffhastings.co.uk/event/sunday-lunch-2/2026-08-23/
LOCATION:The Forbidden Fruit\, 22 Grand Parade\, St. Leonards-on-Sea\, East Sussex\, TN37 6DN\, United Kingdom
CATEGORIES:Sunday Lunch
ORGANIZER;CN="The Forbidden Fruit":MAILTO:contact@tffhastings.co.uk
END:VEVENT
BEGIN:VEVENT
DTSTART;TZID=Europe/London:20260830T123000
DTEND;TZID=Europe/London:20260830T160000
DTSTAMP:20260419T184619
CREATED:20260102T153506Z
LAST-MODIFIED:20260102T153506Z
UID:10002002-1788093000-1788105600@tffhastings.co.uk
SUMMARY:Sunday Lunch
DESCRIPTION:
URL:https://tffhastings.co.uk/event/sunday-lunch-2/2026-08-30/
LOCATION:The Forbidden Fruit\, 22 Grand Parade\, St. Leonards-on-Sea\, East Sussex\, TN37 6DN\, United Kingdom
CATEGORIES:Sunday Lunch
ORGANIZER;CN="The Forbidden Fruit":MAILTO:contact@tffhastings.co.uk
END:VEVENT
BEGIN:VEVENT
DTSTART;TZID=Europe/London:20260906T123000
DTEND;TZID=Europe/London:20260906T160000
DTSTAMP:20260419T184619
CREATED:20260102T153506Z
LAST-MODIFIED:20260102T153506Z
UID:10002003-1788697800-1788710400@tffhastings.co.uk
SUMMARY:Sunday Lunch
DESCRIPTION:
URL:https://tffhastings.co.uk/event/sunday-lunch-2/2026-09-06/
LOCATION:The Forbidden Fruit\, 22 Grand Parade\, St. Leonards-on-Sea\, East Sussex\, TN37 6DN\, United Kingdom
CATEGORIES:Sunday Lunch
ORGANIZER;CN="The Forbidden Fruit":MAILTO:contact@tffhastings.co.uk
END:VEVENT
BEGIN:VEVENT
DTSTART;TZID=Europe/London:20260913T123000
DTEND;TZID=Europe/London:20260913T160000
DTSTAMP:20260419T184619
CREATED:20260102T153506Z
LAST-MODIFIED:20260102T153506Z
UID:10002004-1789302600-1789315200@tffhastings.co.uk
SUMMARY:Sunday Lunch
DESCRIPTION:
URL:https://tffhastings.co.uk/event/sunday-lunch-2/2026-09-13/
LOCATION:The Forbidden Fruit\, 22 Grand Parade\, St. Leonards-on-Sea\, East Sussex\, TN37 6DN\, United Kingdom
CATEGORIES:Sunday Lunch
ORGANIZER;CN="The Forbidden Fruit":MAILTO:contact@tffhastings.co.uk
END:VEVENT
BEGIN:VEVENT
DTSTART;TZID=Europe/London:20260920T123000
DTEND;TZID=Europe/London:20260920T160000
DTSTAMP:20260419T184619
CREATED:20260102T153506Z
LAST-MODIFIED:20260102T153506Z
UID:10002005-1789907400-1789920000@tffhastings.co.uk
SUMMARY:Sunday Lunch
DESCRIPTION:
URL:https://tffhastings.co.uk/event/sunday-lunch-2/2026-09-20/
LOCATION:The Forbidden Fruit\, 22 Grand Parade\, St. Leonards-on-Sea\, East Sussex\, TN37 6DN\, United Kingdom
CATEGORIES:Sunday Lunch
ORGANIZER;CN="The Forbidden Fruit":MAILTO:contact@tffhastings.co.uk
END:VEVENT
BEGIN:VEVENT
DTSTART;TZID=Europe/London:20260927T123000
DTEND;TZID=Europe/London:20260927T160000
DTSTAMP:20260419T184619
CREATED:20260102T153506Z
LAST-MODIFIED:20260102T153506Z
UID:10002006-1790512200-1790524800@tffhastings.co.uk
SUMMARY:Sunday Lunch
DESCRIPTION:
URL:https://tffhastings.co.uk/event/sunday-lunch-2/2026-09-27/
LOCATION:The Forbidden Fruit\, 22 Grand Parade\, St. Leonards-on-Sea\, East Sussex\, TN37 6DN\, United Kingdom
CATEGORIES:Sunday Lunch
ORGANIZER;CN="The Forbidden Fruit":MAILTO:contact@tffhastings.co.uk
END:VEVENT
BEGIN:VEVENT
DTSTART;TZID=Europe/London:20261004T123000
DTEND;TZID=Europe/London:20261004T160000
DTSTAMP:20260419T184619
CREATED:20260102T153506Z
LAST-MODIFIED:20260102T153506Z
UID:10002007-1791117000-1791129600@tffhastings.co.uk
SUMMARY:Sunday Lunch
DESCRIPTION:
URL:https://tffhastings.co.uk/event/sunday-lunch-2/2026-10-04/
LOCATION:The Forbidden Fruit\, 22 Grand Parade\, St. Leonards-on-Sea\, East Sussex\, TN37 6DN\, United Kingdom
CATEGORIES:Sunday Lunch
ORGANIZER;CN="The Forbidden Fruit":MAILTO:contact@tffhastings.co.uk
END:VEVENT
BEGIN:VEVENT
DTSTART;TZID=Europe/London:20261011T123000
DTEND;TZID=Europe/London:20261011T160000
DTSTAMP:20260419T184619
CREATED:20260102T153506Z
LAST-MODIFIED:20260102T153506Z
UID:10002008-1791721800-1791734400@tffhastings.co.uk
SUMMARY:Sunday Lunch
DESCRIPTION:
URL:https://tffhastings.co.uk/event/sunday-lunch-2/2026-10-11/
LOCATION:The Forbidden Fruit\, 22 Grand Parade\, St. Leonards-on-Sea\, East Sussex\, TN37 6DN\, United Kingdom
CATEGORIES:Sunday Lunch
ORGANIZER;CN="The Forbidden Fruit":MAILTO:contact@tffhastings.co.uk
END:VEVENT
BEGIN:VEVENT
DTSTART;TZID=Europe/London:20261018T123000
DTEND;TZID=Europe/London:20261018T160000
DTSTAMP:20260419T184619
CREATED:20260102T153506Z
LAST-MODIFIED:20260102T153506Z
UID:10002009-1792326600-1792339200@tffhastings.co.uk
SUMMARY:Sunday Lunch
DESCRIPTION:
URL:https://tffhastings.co.uk/event/sunday-lunch-2/2026-10-18/
LOCATION:The Forbidden Fruit\, 22 Grand Parade\, St. Leonards-on-Sea\, East Sussex\, TN37 6DN\, United Kingdom
CATEGORIES:Sunday Lunch
ORGANIZER;CN="The Forbidden Fruit":MAILTO:contact@tffhastings.co.uk
END:VEVENT
BEGIN:VEVENT
DTSTART;TZID=Europe/London:20261025T123000
DTEND;TZID=Europe/London:20261025T160000
DTSTAMP:20260419T184619
CREATED:20260102T153506Z
LAST-MODIFIED:20260102T153506Z
UID:10002010-1792931400-1792944000@tffhastings.co.uk
SUMMARY:Sunday Lunch
DESCRIPTION:
URL:https://tffhastings.co.uk/event/sunday-lunch-2/2026-10-25/
LOCATION:The Forbidden Fruit\, 22 Grand Parade\, St. Leonards-on-Sea\, East Sussex\, TN37 6DN\, United Kingdom
CATEGORIES:Sunday Lunch
ORGANIZER;CN="The Forbidden Fruit":MAILTO:contact@tffhastings.co.uk
END:VEVENT
BEGIN:VEVENT
DTSTART;TZID=Europe/London:20261101T123000
DTEND;TZID=Europe/London:20261101T160000
DTSTAMP:20260419T184619
CREATED:20260102T153506Z
LAST-MODIFIED:20260102T153506Z
UID:10002011-1793536200-1793548800@tffhastings.co.uk
SUMMARY:Sunday Lunch
DESCRIPTION:
URL:https://tffhastings.co.uk/event/sunday-lunch-2/2026-11-01/
LOCATION:The Forbidden Fruit\, 22 Grand Parade\, St. Leonards-on-Sea\, East Sussex\, TN37 6DN\, United Kingdom
CATEGORIES:Sunday Lunch
ORGANIZER;CN="The Forbidden Fruit":MAILTO:contact@tffhastings.co.uk
END:VEVENT
BEGIN:VEVENT
DTSTART;TZID=Europe/London:20261108T123000
DTEND;TZID=Europe/London:20261108T160000
DTSTAMP:20260419T184619
CREATED:20260102T153506Z
LAST-MODIFIED:20260102T153506Z
UID:10002012-1794141000-1794153600@tffhastings.co.uk
SUMMARY:Sunday Lunch
DESCRIPTION:
URL:https://tffhastings.co.uk/event/sunday-lunch-2/2026-11-08/
LOCATION:The Forbidden Fruit\, 22 Grand Parade\, St. Leonards-on-Sea\, East Sussex\, TN37 6DN\, United Kingdom
CATEGORIES:Sunday Lunch
ORGANIZER;CN="The Forbidden Fruit":MAILTO:contact@tffhastings.co.uk
END:VEVENT
BEGIN:VEVENT
DTSTART;TZID=Europe/London:20261115T123000
DTEND;TZID=Europe/London:20261115T160000
DTSTAMP:20260419T184619
CREATED:20260102T153506Z
LAST-MODIFIED:20260102T153506Z
UID:10002013-1794745800-1794758400@tffhastings.co.uk
SUMMARY:Sunday Lunch
DESCRIPTION:
URL:https://tffhastings.co.uk/event/sunday-lunch-2/2026-11-15/
LOCATION:The Forbidden Fruit\, 22 Grand Parade\, St. Leonards-on-Sea\, East Sussex\, TN37 6DN\, United Kingdom
CATEGORIES:Sunday Lunch
ORGANIZER;CN="The Forbidden Fruit":MAILTO:contact@tffhastings.co.uk
END:VEVENT
END:VCALENDAR